Workbook

Sheet 参考）入力マニュアル
A1: アーティスティックスイミング 大会エントリー 入力・処理マニュアル
B2: 42133
B3: （一社）日本マスターズ水泳協会
A5: 【処理手順】
A7: １．ファイルのダウンロード
B8: □ | C8: ダウンロードした「エントリーフォーム」を使用しているPCへ保存してください。
A11: ３．入力作成
B12: □ | C12: ファイルを開き、入力シートの必要事項を漏れなく全て入力してください。
B13: □ | C13: この項目の入力値は、プログラム作成の際に、そのまま利用するので、誤入力がないように注意し、良く確認してください。
B15: * | C15: 英数字は半角で入力すること。
B16: * | C16: 入力欄に「計算式」「関数」は入力しないこと。
B17: * | C17: 標準表示されない漢字については、カタカナのヨミガナで入力し、印刷したものに手書きで記入すること。
D18: 記号など、下記の様な、機種依存文字は使用できません。
D19: ご利用のPCでは正しく印刷されていても、データ上反映されない場合があります。
D20: その他、旧字体の漢字などの一部にも使用できない文字があります。
D22: 機種依存文字 例）
A36: ３．確認シート（印刷版）の印刷
B37: □ | C37: 確認シート（印刷版/種目別：印刷版）を印刷し、入力事項に処理誤りがないか入念にチェックしてください。
C38: 誤りがあった場合、入力シートで入力内容を変更し、再印刷してください。
B39: □ | C39: 自動計算された「申込金欄」を確認してください。
B40: □ | C40: 申込団体は、印刷の控えをとっておいてください。
A43: 【エントリーフォーム入力手順】
A45: １．大会基本情報について
B46: □ | C46: 入力されている「大会基本情報」を確認してください。
C48: 記入済例）
C49: 大会名 | H49: 日本マスターズ水泳選手権大会（ジャパンマスターズ） アーティスティックスイミング競技（プレ大会）
C50: 期日 | H50: 2019年7月6日（土）
C51: 場所 | H51: 横浜国際プール サブプール
A54: ２．団体情報について
B55: □ | C55: 「エントリーシート記入欄」の団体情報は漏れがない様、全て入力してください。
C57: 入力例）
C58: 団体名 | H58: 関東アーティスティックスイミングクラブ | AA58: ・・・ | AC58: マスターズ水泳協会に登録している正式名称を入力すること。
C59: 団体略称 | H59: 関東ASクラブ | AC59: 登録している略称を全角6 文字分以内で入力すること。
C60: 代表者名 | H60: 田中まり子
C61: 団体番号 | H61: 13579 | AA61: ・・・ | AC61: マスターズ水泳協会に登録している場合はチーム番号を半角６文字で入力すること。
C62: 団体住所 | H62: 東京都世田谷区桜上水1-2-34
C63: 団体Tel | H63: 03-3333-4444
C64: 団体Fax | H64: 03-3333-4445
C65: 連絡責任者 | H65: 鈴木ゆう子
C66: 連絡先住所 | H66: 東京都世田谷区桜上水5-67-89 | AA66: ・・・ | AC66: 該当する入力項目がない場合、空欄にせず「-」と入力すること。
...

Sheet 入力シート
A1: エントリー入力シート（印刷不可）
A3: 大 会 名 | F3: 日本マスターズ水泳選手権大会 プレ大会 （ジャパンマスターズ プレ） アーティスティックスイミング競技 | AA3: ※記入上の注意
A4: 期 日 | AB4: 1．入力シートのみ記入すること。（印刷シートは確認のためだけのものです）
A5: 場 所 | AB5: 2．記入のミスなどの修正は必ず入力シートの該当箇所を変更すること。
A6: 団体名 | AB6: 3．記入後，必ず印刷シートを印刷して控えを残しておくこと。
A7: 団体略称 | AB7: 4．団体及び競技者番号は日本マスターズ水泳協会に登録がある場合のみ記載してください。
A8: 代表者名
A9: 団体番号
A10: 団体住所
A11: 団体Tel
A12: 団体Fax
A13: 連絡責任者
A14: 連絡先住所
A15: Tel
A16: Fax
A17: 携帯
A18: E-mail
A20: 番号 | C20: 競技者番号 | J20: 氏 名 | Q20: カタカナ氏名 | Z20: 生年月日 | AG20: デュエット | AO20: チーム | AW20: フリーコンビネーション
Z21: 西暦 | AC21: 月 | AE21: 日 | AG21: 年齢区分 | AK21: 組 | AM21: 表示順 | AO21: 年齢区分 | AS21: 組 | AU21: 表示順 | AW21: 年齢区分 | BA21: 組 | BC21: 表示順
A22: 1
A23: 2
A24: 3
A25: 4
A26: 5
A27: 6
A28: 7
A29: 8
A30: 9
A31: 10
A32: 11
A33: 12
... A61: 40

Sheet 確認シート（印刷版）
A1: 確認シート（印刷版）
A3: 大 会 名 | F3: =入力シート!F3 -> 日本マスターズ水泳選手権大会 プレ大会 （ジャパンマスターズ プレ） アーティスティックスイミング競技
A4: 期 日 | F4: =入力シート!F4 -> 0
A5: 場 所 | F5: =入力シート!F5 -> 0
A6: 団体名 | F6: =入力シート!F6 -> 0
A7: 団体略称 | F7: =入力シート!F7 -> 0
A8: 代表者名 | F8: =入力シート!F8 -> 0
A9: 団体番号 | F9: =入力シート!F9 -> 0 | AE9: 申込金
A10: 団体住所 | F10: =入力シート!F10 -> 0 | AE10: 種 目 | AM10: エントリー数 | AR10: 人 数 | AX10: 合計（円）
A11: 団体Tel | F11: =入力シート!F11 -> 0 | AE11: デュエット | AM11: =COUNTIF(AM22:AN61,1) -> 0 | AR11: =COUNTIF(AK22:AL61,">0") -> 0 | AX11: =AR11*4000 -> 0
A12: 団体Fax | F12: =入力シート!F12 -> 0 | AE12: チ ー ム | AM12: =COUNTIF(AU22:AV61,1) -> 0 | AR12: =COUNTIF(AU22:AV61,">0")+COUNTIF(AU22:AV61,"R1")+COUNTIF(AU22:AV61,"R2") -> 0 | AX12: =AR12*3000 -> 0
A13: 連絡責任者 | F13: =入力シート!F13 -> 0 | AE13: フリーコンビネーション | AM13: =COUNTIF(BC22:BD61,1) -> 0 | AR13: =COUNTIF(BC22:BD61,">0")+COUNTIF(BC22:BD61,"R1")+COUNTIF(BC22:BD61,"R2") -> 0 | AX13: =AR13*3000 -> 0
A14: 連絡先住所 | F14: =入力シート!F14 -> 0 | AE14: 合 計 | AM14: =SUM(AM11:AQ13) -> 0 | AR14: =SUM(AR11:AW13) -> 0 | AX14: =SUM(AX10:BD13) -> 0
A15: Tel | F15: =入力シート!F15 -> 0
A16: Fax | F16: =入力シート!F16 -> 0
A17: 携帯 | F17: =入力シート!F17 -> 0
A18: E-mail | F18: =入力シート!F18 -> 0
A20: 番号 | C20: 競技者番号 | J20: 氏 名 | Q20: カタカナ氏名 | Z20: 生年月日 | AG20: デュエット | AO20: チーム | AW20: フリーコンビネーション | BF20: デュエット | BS20: チーム | CF20: フリーコンビネーション
Z21: 西暦 | AC21: 月 | AE21: 日 | AG21: 年齢区分 | AK21: 組 | AM21: 表示順 | AO21: 年齢区分 | AS21: 組 | AU21: 表示順 | AW21: 年齢区分 | BA21: 組 | BC21: 表示順 | BF21: 組 | BG21: 年齢区分 | BL21: 氏名 | BS21: 組 | BT21: 年齢区分 | BY21: 氏名 | CF21: 組 | CG21: 年齢区分 | CL21: 氏名
A22: 1 | C22: =入力シート!C22 -> 0 | J22: =入力シート!J22 -> 0 | Q22: =入力シート!Q22 -> 0 | Z22: =入力シート!Z22 -> 0 | AC22: =入力シート!AC22 -> 0 | AE22: =入力シート!AE22 -> 0 | AG22: =入力シート!AG22 -> 0 | AK22: =入力シート!AK22 -> 0 | AM22: =入力シート!AM22 -> 0 | AO22: =入力シート!AO22 -> 0 | AS22: =入力シート!AS22 -> 0 | AU22: =入力シート!AU22 -> 0 | AW22: =入力シート!AW22 -> 0 | BA22: =入力シート!BA22 -> 0 | BC22: =入力シート!BC22 -> 0 | BF22: 1 | BG22: =VLOOKUP("11",WORK1!C4:E53,3,FALSE) -> #N/A | BK22: 1 | BL22: =VLOOKUP("11",WORK1!C4:E53,2,FALSE) -> #N/A | BS22: Ａ | BT22: =VLOOKUP("A1",WORK1!I4:K53,3,FALSE) -> #N/A | BX22: 1 | BY22: =VLOOKUP("A1",WORK1!I4:K53,2,FALSE) -> #N/A | CF22: Ａ | CG22: =VLOOKUP("A1",WORK1!O4:Q53,3,FALSE) -> #N/A | CK22: 1 | CL22: =VLOOKUP("A1",WORK1!O4:Q53,2,FALSE) -> #N/A
A23: 2 | C23: =入力シート!C23 -> 0 | J23: =入力シート!J23 -> 0 | Q23: =入力シート!Q23 -> 0 | Z23: =入力シート!Z23 -> 0 | AC23: =入力シート!AC23 -> 0 | AE23: =入力シート!AE23 -> 0 | AG23: =入力シート!AG23 -> 0 | AK23: =入力シート!AK23 -> 0 | AM23: =入力シート!AM23 -> 0 | AO23: =入力シート!AO23 -> 0 | AS23: =入力シート!AS23 -> 0 | AU23: =入力シート!AU23 -> 0 | AW23: =入力シート!AW23 -> 0 | BA23: =入力シート!BA23 -> 0 | BC23: =入力シート!BC23 -> 0 | BK23: 2 | BL23: =VLOOKUP("12",WORK1!C4:E53,2,FALSE) -> #N/A | BX23: 2 | BY23: =VLOOKUP("A2",WORK1!I4:K53,2,FALSE) -> #N/A | CK23: 2 | CL23: =VLOOKUP("A2",WORK1!O4:Q53,2,FALSE) -> #N/A
A24: 3 | C24: =入力シート!C24 -> 0 | J24: =入力シート!J24 -> 0 | Q24: =入力シート!Q24 -> 0 | Z24: =入力シート!Z24 -> 0 | AC24: =入力シート!AC24 -> 0 | AE24: =入力シート!AE24 -> 0 | AG24: =入力シート!AG24 -> 0 | AK24: =入力シート!AK24 -> 0 | AM24: =入力シート!AM24 -> 0 | AO24: =入力シート!AO24 -> 0 | AS24: =入力シート!AS24 -> 0 | AU24: =入力シート!AU24 -> 0 | AW24: =入力シート!AW24 -> 0 | BA24: =入力シート!BA24 -> 0 | BC24: =入力シート!BC24 -> 0 | BK24: R | BL24: =VLOOKUP("1R",WORK1!C4:E53,2,FALSE) -> #N/A | BX24: 3 | BY24: =VLOOKUP("A3",WORK1!I4:K53,2,FALSE) -> #N/A | CK24: 3 | CL24: =VLOOKUP("A3",WORK1!O4:Q53,2,FALSE) -> #N/A
A25: 4 | C25: =入力シート!C25 -> 0 | J25: =入力シート!J25 -> 0 | Q25: =入力シート!Q25 -> 0 | Z25: =入力シート!Z25 -> 0 | AC25: =入力シート!AC25 -> 0 | AE25: =入力シート!AE25 -> 0 | AG25: =入力シート!AG25 -> 0 | AK25: =入力シート!AK25 -> 0 | AM25: =入力シート!AM25 -> 0 | AO25: =入力シート!AO25 -> 0 | AS25: =入力シート!AS25 -> 0 | AU25: =入力シート!AU25 -> 0 | AW25: =入力シート!AW25 -> 0 | BA25: =入力シート!BA25 -> 0 | BC25: =入力シート!BC25 -> 0 | BF25: 2 | BG25: =VLOOKUP("21",WORK1!C4:E53,3,FALSE) -> #N/A | BK25: 1 | BL25: =VLOOKUP("21",WORK1!C4:E53,2,FALSE) -> #N/A | BX25: 4 | BY25: =VLOOKUP("A4",WORK1!I4:K53,2,FALSE) -> #N/A | CK25: 4 | CL25: =VLOOKUP("A4",WORK1!O4:Q53,2,FALSE) -> #N/A
A26: 5 | C26: =入力シート!C26 -> 0 | J26: =入力シート!J26 -> 0 | Q26: =入力シート!Q26 -> 0 | Z26: =入力シート!Z26 -> 0 | AC26: =入力シート!AC26 -> 0 | AE26: =入力シート!AE26 -> 0 | AG26: =入力シート!AG26 -> 0 | AK26: =入力シート!AK26 -> 0 | AM26: =入力シート!AM26 -> 0 | AO26: =入力シート!AO26 -> 0 | AS26: =入力シート!AS26 -> 0 | AU26: =入力シート!AU26 -> 0 | AW26: =入力シート!AW26 -> 0 | BA26: =入力シート!BA26 -> 0 | BC26: =入力シート!BC26 -> 0 | BK26: 2 | BL26: =VLOOKUP("22",WORK1!C4:E53,2,FALSE) -> #N/A | BX26: 5 | BY26: =VLOOKUP("A5",WORK1!I4:K53,2,FALSE) -> #N/A | CK26: 5 | CL26: =VLOOKUP("A5",WORK1!O4:Q53,2,FALSE) -> #N/A
A27: 6 | C27: =入力シート!C27 -> 0 | J27: =入力シート!J27 -> 0 | Q27: =入力シート!Q27 -> 0 | Z27: =入力シート!Z27 -> 0 | AC27: =入力シート!AC27 -> 0 | AE27: =入力シート!AE27 -> 0 | AG27: =入力シート!AG27 -> 0 | AK27: =入力シート!AK27 -> 0 | AM27: =入力シート!AM27 -> 0 | AO27: =入力シート!AO27 -> 0 | AS27: =入力シート!AS27 -> 0 | AU27: =入力シート!AU27 -> 0 | AW27: =入力シート!AW27 -> 0 | BA27: =入力シート!BA27 -> 0 | BC27: =入力シート!BC27 -> 0 | BK27: R | BL27: =VLOOKUP("2R",WORK1!C4:E53,2,FALSE) -> #N/A | BX27: 6 | BY27: =VLOOKUP("A6",WORK1!I4:K53,2,FALSE) -> #N/A | CK27: 6 | CL27: =VLOOKUP("A6",WORK1!O4:Q53,2,FALSE) -> #N/A
A28: 7 | C28: =入力シート!C28 -> 0 | J28: =入力シート!J28 -> 0 | Q28: =入力シート!Q28 -> 0 | Z28: =入力シート!Z28 -> 0 | AC28: =入力シート!AC28 -> 0 | AE28: =入力シート!AE28 -> 0 | AG28: =入力シート!AG28 -> 0 | AK28: =入力シート!AK28 -> 0 | AM28: =入力シート!AM28 -> 0 | AO28: =入力シート!AO28 -> 0 | AS28: =入力シート!AS28 -> 0 | AU28: =入力シート!AU28 -> 0 | AW28: =入力シート!AW28 -> 0 | BA28: =入力シート!BA28 -> 0 | BC28: =入力シート!BC28 -> 0 | BF28: 3 | BG28: =VLOOKUP("31",WORK1!C4:E53,3,FALSE) -> #N/A | BK28: 1 | BL28: =VLOOKUP("31",WORK1!C4:E53,2,FALSE) -> #N/A | BX28: 7 | BY28: =VLOOKUP("A7",WORK1!I4:K53,2,FALSE) -> #N/A | CK28: 7 | CL28: =VLOOKUP("A7",WORK1!O4:Q53,2,FALSE) -> #N/A
A29: 8 | C29: =入力シート!C29 -> 0 | J29: =入力シート!J29 -> 0 | Q29: =入力シート!Q29 -> 0 | Z29: =入力シート!Z29 -> 0 | AC29: =入力シート!AC29 -> 0 | AE29: =入力シート!AE29 -> 0 | AG29: =入力シート!AG29 -> 0 | AK29: =入力シート!AK29 -> 0 | AM29: =入力シート!AM29 -> 0 | AO29: =入力シート!AO29 -> 0 | AS29: =入力シート!AS29 -> 0 | AU29: =入力シート!AU29 -> 0 | AW29: =入力シート!AW29 -> 0 | BA29: =入力シート!BA29 -> 0 | BC29: =入力シート!BC29 -> 0 | BK29: 2 | BL29: =VLOOKUP("32",WORK1!C4:E53,2,FALSE) -> #N/A | BX29: 8 | BY29: =VLOOKUP("A8",WORK1!I4:K53,2,FALSE) -> #N/A | CK29: 8 | CL29: =VLOOKUP("A8",WORK1!O4:Q53,2,FALSE) -> #N/A
A30: 9 | C30: =入力シート!C30 -> 0 | J30: =入力シート!J30 -> 0 | Q30: =入力シート!Q30 -> 0 | Z30: =入力シート!Z30 -> 0 | AC30: =入力シート!AC30 -> 0 | AE30: =入力シート!AE30 -> 0 | AG30: =入力シート!AG30 -> 0 | AK30: =入力シート!AK30 -> 0 | AM30: =入力シート!AM30 -> 0 | AO30: =入力シート!AO30 -> 0 | AS30: =入力シート!AS30 -> 0 | AU30: =入力シート!AU30 -> 0 | AW30: =入力シート!AW30 -> 0 | BA30: =入力シート!BA30 -> 0 | BC30: =入力シート!BC30 -> 0 | BK30: R | BL30: =VLOOKUP("3R",WORK1!C4:E53,2,FALSE) -> #N/A | BX30: R1 | BY30: =VLOOKUP("AR1",WORK1!I4:K53,2,FALSE) -> #N/A | CK30: 9 | CL30: =VLOOKUP("A9",WORK1!O4:Q53,2,FALSE) -> #N/A
A31: 10 | C31: =入力シート!C31 -> 0 | J31: =入力シート!J31 -> 0 | Q31: =入力シート!Q31 -> 0 | Z31: =入力シート!Z31 -> 0 | AC31: =入力シート!AC31 -> 0 | AE31: =入力シート!AE31 -> 0 | AG31: =入力シート!AG31 -> 0 | AK31: =入力シート!AK31 -> 0 | AM31: =入力シート!AM31 -> 0 | AO31: =入力シート!AO31 -> 0 | AS31: =入力シート!AS31 -> 0 | AU31: =入力シート!AU31 -> 0 | AW31: =入力シート!AW31 -> 0 | BA31: =入力シート!BA31 -> 0 | BC31: =入力シート!BC31 -> 0 | BF31: 4 | BG31: =VLOOKUP("41",WORK1!C4:E53,3,FALSE) -> #N/A | BK31: 1 | BL31: =VLOOKUP("41",WORK1!C4:E53,2,FALSE) -> #N/A | BX31: R2 | BY31: =VLOOKUP("AR2",WORK1!I4:K53,2,FALSE) -> #N/A | CK31: 10 | CL31: =VLOOKUP("A10",WORK1!O4:Q53,2,FALSE) -> #N/A
A32: 11 | C32: =入力シート!C32 -> 0 | J32: =入力シート!J32 -> 0 | Q32: =入力シート!Q32 -> 0 | Z32: =入力シート!Z32 -> 0 | AC32: =入力シート!AC32 -> 0 | AE32: =入力シート!AE32 -> 0 | AG32: =入力シート!AG32 -> 0 | AK32: =入力シート!AK32 -> 0 | AM32: =入力シート!AM32 -> 0 | AO32: =入力シート!AO32 -> 0 | AS32: =入力シート!AS32 -> 0 | AU32: =入力シート!AU32 -> 0 | AW32: =入力シート!AW32 -> 0 | BA32: =入力シート!BA32 -> 0 | BC32: =入力シート!BC32 -> 0 | BK32: 2 | BL32: =VLOOKUP("42",WORK1!C4:E53,2,FALSE) -> #N/A | BS32: Ｂ | BT32: =VLOOKUP("B1",WORK1!I4:K53,3,FALSE) -> #N/A | BX32: 1 | BY32: =VLOOKUP("B1",WORK1!I4:K53,2,FALSE) -> #N/A | CK32: R1 | CL32: =VLOOKUP("AR1",WORK1!O4:Q53,2,FALSE) -> #N/A
A33: 12 | C33: =入力シート!C33 -> 0 | J33: =入力シート!J33 -> 0 | Q33: =入力シート!Q33 -> 0 | Z33: =入力シート!Z33 -> 0 | AC33: =入力シート!AC33 -> 0 | AE33: =入力シート!AE33 -> 0 | AG33: =入力シート!AG33 -> 0 | AK33: =入力シート!AK33 -> 0 | AM33: =入力シート!AM33 -> 0 | AO33: =入力シート!AO33 -> 0 | AS33: =入力シート!AS33 -> 0 | AU33: =入力シート!AU33 -> 0 | AW33: =入力シート!AW33 -> 0 | BA33: =入力シート!BA33 -> 0 | BC33: =入力シート!BC33 -> 0 | BK33: R | BL33: =VLOOKUP("4R",WORK1!C4:E53,2,FALSE) -> #N/A | BX33: 2 | BY33: =VLOOKUP("B2",WORK1!I4:K53,2,FALSE) -> #N/A | CK33: R2 | CL33: =VLOOKUP("AR2",WORK1!O4:Q53,2,FALSE) -> #N/A
A34: 13 | C34: =入力シート!C34 -> 0 | J34: =入力シート!J34 -> 0 | Q34: =入力シート!Q34 -> 0 | Z34: =入力シート!Z34 -> 0 | AC34: =入力シート!AC34 -> 0 | AE34: =入力シート!AE34 -> 0 | AG34: =入力シート!AG34 -> 0 | AK34: =入力シート!AK34 -> 0 | AM34: =入力シート!AM34 -> 0 | AO34: =入力シート!AO34 -> 0 | AS34: =入力シート!AS34 -> 0 | AU34: =入力シート!AU34 -> 0 | AW34: =入力シート!AW34 -> 0 | BA34: =入力シート!BA34 -> 0 | BC34: =入力シート!BC34 -> 0 | BF34: 5 | BG34: =VLOOKUP("51",WORK1!C4:E53,3,FALSE) -> #N/A | BK34: 1 | BL34: =VLOOKUP("51",WORK1!C4:E53,2,FALSE) -> #N/A | BX34: 3 | BY34: =VLOOKUP("B3",WORK1!I4:K53,2,FALSE) -> #N/A | CF34: Ｂ | CG34: =VLOOKUP("B1",WORK1!O4:Q53,3,FALSE) -> #N/A | CK34: 1 | CL34: =VLOOKUP("B1",WORK1!O4:Q53,2,FALSE) -> #N/A
A35: 14 | C35: =入力シート!C35 -> 0 | J35: =入力シート!J35 -> 0 | Q35: =入力シート!Q35 -> 0 | Z35: =入力シート!Z35 -> 0 | AC35: =入力シート!AC35 -> 0 | AE35: =入力シート!AE35 -> 0 | AG35: =入力シート!AG35 -> 0 | AK35: =入力シート!AK35 -> 0 | AM35: =入力シート!AM35 -> 0 | AO35: =入力シート!AO35 -> 0 | AS35: =入力シート!AS35 -> 0 | AU35: =入力シート!AU35 -> 0 | AW35: =入力シート!AW35 -> 0 | BA35: =入力シート!BA35 -> 0 | BC35: =入力シート!BC35 -> 0 | BK35: 2 | BL35: =VLOOKUP("52",WORK1!C4:E53,2,FALSE) -> #N/A | BX35: 4 | BY35: =VLOOKUP("B4",WORK1!I4:K53,2,FALSE) -> #N/A | CK35: 2 | CL35: =VLOOKUP("B2",WORK1!O4:Q53,2,FALSE) -> #N/A
A36: 15 | C36: =入力シート!C36 -> 0 | J36: =入力シート!J36 -> 0 | Q36: =入力シート!Q36 -> 0 | Z36: =入力シート!Z36 -> 0 | AC36: =入力シート!AC36 -> 0 | AE36: =入力シート!AE36 -> 0 | AG36: =入力シート!AG36 -> 0 | AK36: =入力シート!AK36 -> 0 | AM36: =入力シート!AM36 -> 0 | AO36: =入力シート!AO36 -> 0 | AS36: =入力シート!AS36 -> 0 | AU36: =入力シート!AU36 -> 0 | AW36: =入力シート!AW36 -> 0 | BA36: =入力シート!BA36 -> 0 | BC36: =入力シート!BC36 -> 0 | BK36: R | BL36: =VLOOKUP("5R",WORK1!C4:E53,2,FALSE) -> #N/A | BX36: 5 | BY36: =VLOOKUP("B5",WORK1!I4:K53,2,FALSE) -> #N/A | CK36: 3 | CL36: =VLOOKUP("B3",WORK1!O4:Q53,2,FALSE) -> #N/A
A37: 16 | C37: =入力シート!C37 -> 0 | J37: =入力シート!J37 -> 0 | Q37: =入力シート!Q37 -> 0 | Z37: =入力シート!Z37 -> 0 | AC37: =入力シート!AC37 -> 0 | AE37: =入力シート!AE37 -> 0 | AG37: =入力シート!AG37 -> 0 | AK37: =入力シート!AK37 -> 0 | AM37: =入力シート!AM37 -> 0 | AO37: =入力シート!AO37 -> 0 | AS37: =入力シート!AS37 -> 0 | AU37: =入力シート!AU37 -> 0 | AW37: =入力シート!AW37 -> 0 | BA37: =入力シート!BA37 -> 0 | BC37: =入力シート!BC37 -> 0 | BF37: 6 | BG37: =VLOOKUP("61",WORK1!C4:E53,3,FALSE) -> #N/A | BK37: 1 | BL37: =VLOOKUP("61",WORK1!C4:E53,2,FALSE) -> #N/A | BX37: 6 | BY37: =VLOOKUP("B6",WORK1!I4:K53,2,FALSE) -> #N/A | CK37: 4 | CL37: =VLOOKUP("B4",WORK1!O4:Q53,2,FALSE) -> #N/A
A38: 17 | C38: =入力シート!C38 -> 0 | J38: =入力シート!J38 -> 0 | Q38: =入力シート!Q38 -> 0 | Z38: =入力シート!Z38 -> 0 | AC38: =入力シート!AC38 -> 0 | AE38: =入力シート!AE38 -> 0 | AG38: =入力シート!AG38 -> 0 | AK38: =入力シート!AK38 -> 0 | AM38: =入力シート!AM38 -> 0 | AO38: =入力シート!AO38 -> 0 | AS38: =入力シート!AS38 -> 0 | AU38: =入力シート!AU38 -> 0 | AW38: =入力シート!AW38 -> 0 | BA38: =入力シート!BA38 -> 0 | BC38: =入力シート!BC38 -> 0 | BK38: 2 | BL38: =VLOOKUP("62",WORK1!C4:E53,2,FALSE) -> #N/A | BX38: 7 | BY38: =VLOOKUP("B7",WORK1!I4:K53,2,FALSE) -> #N/A | CK38: 5 | CL38: =VLOOKUP("B5",WORK1!O4:Q53,2,FALSE) -> #N/A
A39: 18 | C39: =入力シート!C39 -> 0 | J39: =入力シート!J39 -> 0 | Q39: =入力シート!Q39 -> 0 | Z39: =入力シート!Z39 -> 0 | AC39: =入力シート!AC39 -> 0 | AE39: =入力シート!AE39 -> 0 | AG39: =入力シート!AG39 -> 0 | AK39: =入力シート!AK39 -> 0 | AM39: =入力シート!AM39 -> 0 | AO39: =入力シート!AO39 -> 0 | AS39: =入力シート!AS39 -> 0 | AU39: =入力シート!AU39 -> 0 | AW39: =入力シート!AW39 -> 0 | BA39: =入力シート!BA39 -> 0 | BC39: =入力シート!BC39 -> 0 | BK39: R | BL39: =VLOOKUP("6R",WORK1!C4:E53,2,FALSE) -> #N/A | BX39: 8 | BY39: =VLOOKUP("B8",WORK1!I4:K53,2,FALSE) -> #N/A | CK39: 6 | CL39: =VLOOKUP("B6",WORK1!O4:Q53,2,FALSE) -> #N/A
A40: 19 | C40: =入力シート!C40 -> 0 | J40: =入力シート!J40 -> 0 | Q40: =入力シート!Q40 -> 0 | Z40: =入力シート!Z40 -> 0 | AC40: =入力シート!AC40 -> 0 | AE40: =入力シート!AE40 -> 0 | AG40: =入力シート!AG40 -> 0 | AK40: =入力シート!AK40 -> 0 | AM40: =入力シート!AM40 -> 0 | AO40: =入力シート!AO40 -> 0 | AS40: =入力シート!AS40 -> 0 | AU40: =入力シート!AU40 -> 0 | AW40: =入力シート!AW40 -> 0 | BA40: =入力シート!BA40 -> 0 | BC40: =入力シート!BC40 -> 0 | BF40: 7 | BG40: =VLOOKUP("71",WORK1!C4:E53,3,FALSE) -> #N/A | BK40: 1 | BL40: =VLOOKUP("71",WORK1!C4:E53,2,FALSE) -> #N/A | BX40: R1 | BY40: =VLOOKUP("BR1",WORK1!I4:K53,2,FALSE) -> #N/A | CK40: 7 | CL40: =VLOOKUP("B7",WORK1!O4:Q53,2,FALSE) -> #N/A
A41: 20 | C41: =入力シート!C41 -> 0 | J41: =入力シート!J41 -> 0 | Q41: =入力シート!Q41 -> 0 | Z41: =入力シート!Z41 -> 0 | AC41: =入力シート!AC41 -> 0 | AE41: =入力シート!AE41 -> 0 | AG41: =入力シート!AG41 -> 0 | AK41: =入力シート!AK41 -> 0 | AM41: =入力シート!AM41 -> 0 | AO41: =入力シート!AO41 -> 0 | AS41: =入力シート!AS41 -> 0 | AU41: =入力シート!AU41 -> 0 | AW41: =入力シート!AW41 -> 0 | BA41: =入力シート!BA41 -> 0 | BC41: =入力シート!BC41 -> 0 | BK41: 2 | BL41: =VLOOKUP("72",WORK1!C4:E53,2,FALSE) -> #N/A | BX41: R2 | BY41: =VLOOKUP("BR2",WORK1!I4:K53,2,FALSE) -> #N/A | CK41: 8 | CL41: =VLOOKUP("B8",WORK1!O4:Q53,2,FALSE) -> #N/A
A42: 21 | C42: =入力シート!C42 -> 0 | J42: =入力シート!J42 -> 0 | Q42: =入力シート!Q42 -> 0 | Z42: =入力シート!Z42 -> 0 | AC42: =入力シート!AC42 -> 0 | AE42: =入力シート!AE42 -> 0 | AG42: =入力シート!AG42 -> 0 | AK42: =入力シート!AK42 -> 0 | AM42: =入力シート!AM42 -> 0 | AO42: =入力シート!AO42 -> 0 | AS42: =入力シート!AS42 -> 0 | AU42: =入力シート!AU42 -> 0 | AW42: =入力シート!AW42 -> 0 | BA42: =入力シート!BA42 -> 0 | BC42: =入力シート!BC42 -> 0 | BK42: R | BL42: =VLOOKUP("7R",WORK1!C4:E53,2,FALSE) -> #N/A | BS42: Ｃ | BT42: =VLOOKUP("C1",WORK1!I4:J53,3,FALSE) -> #N/A | BX42: 1 | BY42: =VLOOKUP("C1",WORK1!I4:K53,2,FALSE) -> #N/A | CK42: 9 | CL42: =VLOOKUP("B9",WORK1!O4:Q53,2,FALSE) -> #N/A
...

Sheet WORK1
A1: DUET_Entry | G1: TEAM_Entry | M1: FRC_Entry
A3: 組 | B3: 表示順 | C3: 組＋表示順 | D3: 氏 名 | E3: 年令区分 | G3: 組 | H3: 表示順 | I3: 組＋表示順 | J3: 氏 名 | K3: 年令区分 | M3: 組 | N3: 表示順 | O3: 組＋表示順 | P3: 氏 名 | Q3: 年令区分
A4: =入力シート!AK22 -> 0 | B4: =入力シート!AM22 -> 0 | C4: =A4&B4 -> 00 | D4: =入力シート!J22 -> 0 | E4: =入力シート!AG22 -> 0 | G4: =入力シート!AS22 -> 0 | H4: =入力シート!AU22 -> 0 | I4: =G4&H4 -> 00 | J4: =入力シート!J22 -> 0 | K4: =入力シート!AO22 -> 0 | M4: =入力シート!BA22 -> 0 | N4: =入力シート!BC22 -> 0 | O4: =M4&N4 -> 00 | P4: =入力シート!J22 -> 0 | Q4: =入力シート!AW22 -> 0
A5: =入力シート!AK23 -> 0 | B5: =入力シート!AM23 -> 0 | C5: =A5&B5 -> 00 | D5: =入力シート!J23 -> 0 | E5: =入力シート!AG23 -> 0 | G5: =入力シート!AS23 -> 0 | H5: =入力シート!AU23 -> 0 | I5: =G5&H5 -> 00 | J5: =入力シート!J23 -> 0 | K5: =入力シート!AO23 -> 0 | M5: =入力シート!BA23 -> 0 | N5: =入力シート!BC23 -> 0 | O5: =M5&N5 -> 00 | P5: =入力シート!J23 -> 0 | Q5: =入力シート!AW23 -> 0
A6: =入力シート!AK24 -> 0 | B6: =入力シート!AM24 -> 0 | C6: =A6&B6 -> 00 | D6: =入力シート!J24 -> 0 | E6: =入力シート!AG24 -> 0 | G6: =入力シート!AS24 -> 0 | H6: =入力シート!AU24 -> 0 | I6: =G6&H6 -> 00 | J6: =入力シート!J24 -> 0 | K6: =入力シート!AO24 -> 0 | M6: =入力シート!BA24 -> 0 | N6: =入力シート!BC24 -> 0 | O6: =M6&N6 -> 00 | P6: =入力シート!J24 -> 0 | Q6: =入力シート!AW24 -> 0
A7: =入力シート!AK25 -> 0 | B7: =入力シート!AM25 -> 0 | C7: =A7&B7 -> 00 | D7: =入力シート!J25 -> 0 | E7: =入力シート!AG25 -> 0 | G7: =入力シート!AS25 -> 0 | H7: =入力シート!AU25 -> 0 | I7: =G7&H7 -> 00 | J7: =入力シート!J25 -> 0 | K7: =入力シート!AO25 -> 0 | M7: =入力シート!BA25 -> 0 | N7: =入力シート!BC25 -> 0 | O7: =M7&N7 -> 00 | P7: =入力シート!J25 -> 0 | Q7: =入力シート!AW25 -> 0
A8: =入力シート!AK26 -> 0 | B8: =入力シート!AM26 -> 0 | C8: =A8&B8 -> 00 | D8: =入力シート!J26 -> 0 | E8: =入力シート!AG26 -> 0 | G8: =入力シート!AS26 -> 0 | H8: =入力シート!AU26 -> 0 | I8: =G8&H8 -> 00 | J8: =入力シート!J26 -> 0 | K8: =入力シート!AO26 -> 0 | M8: =入力シート!BA26 -> 0 | N8: =入力シート!BC26 -> 0 | O8: =M8&N8 -> 00 | P8: =入力シート!J26 -> 0 | Q8: =入力シート!AW26 -> 0
A9: =入力シート!AK27 -> 0 | B9: =入力シート!AM27 -> 0 | C9: =A9&B9 -> 00 | D9: =入力シート!J27 -> 0 | E9: =入力シート!AG27 -> 0 | G9: =入力シート!AS27 -> 0 | H9: =入力シート!AU27 -> 0 | I9: =G9&H9 -> 00 | J9: =入力シート!J27 -> 0 | K9: =入力シート!AO27 -> 0 | M9: =入力シート!BA27 -> 0 | N9: =入力シート!BC27 -> 0 | O9: =M9&N9 -> 00 | P9: =入力シート!J27 -> 0 | Q9: =入力シート!AW27 -> 0
A10: =入力シート!AK28 -> 0 | B10: =入力シート!AM28 -> 0 | C10: =A10&B10 -> 00 | D10: =入力シート!J28 -> 0 | E10: =入力シート!AG28 -> 0 | G10: =入力シート!AS28 -> 0 | H10: =入力シート!AU28 -> 0 | I10: =G10&H10 -> 00 | J10: =入力シート!J28 -> 0 | K10: =入力シート!AO28 -> 0 | M10: =入力シート!BA28 -> 0 | N10: =入力シート!BC28 -> 0 | O10: =M10&N10 -> 00 | P10: =入力シート!J28 -> 0 | Q10: =入力シート!AW28 -> 0
A11: =入力シート!AK29 -> 0 | B11: =入力シート!AM29 -> 0 | C11: =A11&B11 -> 00 | D11: =入力シート!J29 -> 0 | E11: =入力シート!AG29 -> 0 | G11: =入力シート!AS29 -> 0 | H11: =入力シート!AU29 -> 0 | I11: =G11&H11 -> 00 | J11: =入力シート!J29 -> 0 | K11: =入力シート!AO29 -> 0 | M11: =入力シート!BA29 -> 0 | N11: =入力シート!BC29 -> 0 | O11: =M11&N11 -> 00 | P11: =入力シート!J29 -> 0 | Q11: =入力シート!AW29 -> 0
A12: =入力シート!AK30 -> 0 | B12: =入力シート!AM30 -> 0 | C12: =A12&B12 -> 00 | D12: =入力シート!J30 -> 0 | E12: =入力シート!AG30 -> 0 | G12: =入力シート!AS30 -> 0 | H12: =入力シート!AU30 -> 0 | I12: =G12&H12 -> 00 | J12: =入力シート!J30 -> 0 | K12: =入力シート!AO30 -> 0 | M12: =入力シート!BA30 -> 0 | N12: =入力シート!BC30 -> 0 | O12: =M12&N12 -> 00 | P12: =入力シート!J30 -> 0 | Q12: =入力シート!AW30 -> 0
A13: =入力シート!AK31 -> 0 | B13: =入力シート!AM31 -> 0 | C13: =A13&B13 -> 00 | D13: =入力シート!J31 -> 0 | E13: =入力シート!AG31 -> 0 | G13: =入力シート!AS31 -> 0 | H13: =入力シート!AU31 -> 0 | I13: =G13&H13 -> 00 | J13: =入力シート!J31 -> 0 | K13: =入力シート!AO31 -> 0 | M13: =入力シート!BA31 -> 0 | N13: =入力シート!BC31 -> 0 | O13: =M13&N13 -> 00 | P13: =入力シート!J31 -> 0 | Q13: =入力シート!AW31 -> 0
A14: =入力シート!AK32 -> 0 | B14: =入力シート!AM32 -> 0 | C14: =A14&B14 -> 00 | D14: =入力シート!J32 -> 0 | E14: =入力シート!AG32 -> 0 | G14: =入力シート!AS32 -> 0 | H14: =入力シート!AU32 -> 0 | I14: =G14&H14 -> 00 | J14: =入力シート!J32 -> 0 | K14: =入力シート!AO32 -> 0 | M14: =入力シート!BA32 -> 0 | N14: =入力シート!BC32 -> 0 | O14: =M14&N14 -> 00 | P14: =入力シート!J32 -> 0 | Q14: =入力シート!AW32 -> 0
A15: =入力シート!AK33 -> 0 | B15: =入力シート!AM33 -> 0 | C15: =A15&B15 -> 00 | D15: =入力シート!J33 -> 0 | E15: =入力シート!AG33 -> 0 | G15: =入力シート!AS33 -> 0 | H15: =入力シート!AU33 -> 0 | I15: =G15&H15 -> 00 | J15: =入力シート!J33 -> 0 | K15: =入力シート!AO33 -> 0 | M15: =入力シート!BA33 -> 0 | N15: =入力シート!BC33 -> 0 | O15: =M15&N15 -> 00 | P15: =入力シート!J33 -> 0 | Q15: =入力シート!AW33 -> 0
... A53: =入力シート!AK71 -> 0 | B53: =入力シート!AM71 -> 0 | C53: =A53&B53 -> 00 | D53: =入力シート!J71 -> 0 | E53: =入力シート!AG71 -> 0 | G53: =入力シート!AS71 -> 0 | H53: =入力シート!AU71 -> 0 | I53: =G53&H53 -> 00 | J53: =入力シート!J71 -> 0 | K53: =入力シート!AO71 -> 0 | M53: =入力シート!BA71 -> 0 | N53: =入力シート!BC71 -> 0 | O53: =M53&N53 -> 00 | P53: =入力シート!J71 -> 0 | Q53: =入力シート!AW71 -> 0
E57: デュエット | K57: チーム・FC
E59: 18～29 | K59: 18～34
E60: 30～39 | K60: 35～49
E61: 40～49 | K61: 50～64
E62: 50～59 | K62: 65～79
E63: 60～69 | K63: 80～94
E64: 70～79 | K64: 95～109
E65: 80～89
E66: 90～99
