Workbook

Sheet 参考）入力マニュアル
A1: アーティスティックスイミング 大会エントリー 入力・処理マニュアル
B2: 42133
B3: （一社）日本マスターズ水泳協会
A5: 【処理手順】
A7: １．ファイルのダウンロード
B8: □ | C8: ダウンロードした「エントリーフォーム」を使用しているPCへ保存してください。
A11: ３．入力作成
B12: □ | C12: ファイルを開き、入力シートの必要事項を漏れなく全て入力してください。
B13: □ | C13: この項目の入力値は、プログラム作成の際に、そのまま利用するので、誤入力がないように注意し、良く確認してください。
B15: * | C15: 英数字は半角で入力すること。
B16: * | C16: 入力欄に「計算式」「関数」は入力しないこと。
B17: * | C17: 標準表示されない漢字については、カタカナのヨミガナで入力し、印刷したものに手書きで記入すること。
D18: 記号など、下記の様な、機種依存文字は使用できません。
D19: ご利用のPCでは正しく印刷されていても、データ上反映されない場合があります。
D20: その他、旧字体の漢字などの一部にも使用できない文字があります。
D22: 機種依存文字 例）
A36: ３．確認シート（印刷版）の印刷
B37: □ | C37: 確認シート（印刷版/種目別：印刷版）を印刷し、入力事項に処理誤りがないか入念にチェックしてください。
C38: 誤りがあった場合、入力シートで入力内容を変更し、再印刷してください。
B39: □ | C39: 自動計算された「申込金欄」を確認してください。
B40: □ | C40: 申込団体は、印刷の控えをとっておいてください。
A43: 【エントリーフォーム入力手順】
A45: １．大会基本情報について
B46: □ | C46: 入力されている「大会基本情報」を確認してください。
C48: 記入済例）
C49: 大会名 | H49: 日本マスターズ水泳選手権大会（ジャパンマスターズ） アーティスティックスイミング競技（プレ大会）
C50: 期日 | H50: 2019年7月6日（土）
C51: 場所 | H51: 横浜国際プール サブプール
A54: ２．団体情報について
B55: □ | C55: 「エントリーシート記入欄」の団体情報は漏れがない様、全て入力してください。
C57: 入力例）
C58: 団体名 | H58: 関東アーティスティックスイミングクラブ | AA58: ・・・ | AC58: マスターズ水泳協会に登録している正式名称を入力すること。
C59: 団体略称 | H59: 関東ASクラブ | AC59: 登録している略称を全角6 文字分以内で入力すること。
C60: 代表者名 | H60: 田中まり子
C61: 団体番号 | H61: 13579 | AA61: ・・・ | AC61: マスターズ水泳協会に登録している場合はチーム番号を半角６文字で入力すること。
C62: 団体住所 | H62: 東京都世田谷区桜上水1-2-34
C63: 団体Tel | H63: 03-3333-4444
C64: 団体Fax | H64: 03-3333-4445
C65: 連絡責任者 | H65: 鈴木ゆう子
C66: 連絡先住所 | H66: 東京都世田谷区桜上水5-67-89 | AA66: ・・・ | AC66: 該当する入力項目がない場合、空欄にせず「-」と入力すること。
C67: Tel | H67: 03-5555-6666
C68: Fax | H68: 03-5555-6667
C69: 携帯 | H69: 090-9999-9999
C70: E-mail | H70: aiueo@kakikunet.ne.jp
A73: ３．競技者情報について
B74: □ | C74: 競技者情報の「競技者番号」「氏名」「カタカナ氏名」「生年月日」を入力します。
C75: 競技者番号１から順に、間を空けずに詰めて入力してください。
B77: * | C77: 「競技者番号」 | P77: ・・・ | R77: 番号を入力。（●桁）
B78: * | C78: 「カタカナ氏名」 | P78: ・・・ | R78: 姓（大文字）＋スペース＋名（大文字）の順に入力。
B79: * | C79: 「生年月日」 | P79: ・・・ | R79: 西暦で入力のこと。
C81: 入力例）
C82: 番号 | E82: 競技者番号 | J82: 氏 名 | Q82: カタカナ氏名 | Z82: 生年月日
Z83: 西暦 | AC83: 月 | AE83: 日
C85: 1 | E85: 1047895 | J85: 高橋 瑞希 | Q85: タカハシ ミズキ | Z85: 1955 | AC85: 11 | AE85: 11
C86: 2 | E86: 1047896 | J86: 伊藤 咲子 | Q86: イトウ サキコ | Z86: 1958 | AC86: 5 | AE86: 2
C87: 3 | E87: 1047897 | J87: 高寄 優菜 | Q87: タカヨリ ユウナ | Z87: 1963 | AC87: 8 | AE87: 3
C88: 4 | E88: 1047898 | J88: 小沢 さくら | Q88: オザワ サクラ | Z88: 1969 | AC88: 10 | AE88: 4
C89: 5 | E89: 1047899 | J89: 安住 佳純 | Q89: アズミ カスミ | Z89: 1977 | AC89: 6 | AE89: 5
C90: 6 | E90: 1047900 | J90: 飯塚 ひとみ | Q90: イイヅカ ヒトミ | Z90: 1980 | AC90: 8 | AE90: 6
C91: 7 | E91: 1047901 | J91: 芦塚 恵那 | Q91: アシヅカ エナ | Z91: 1981 | AC91: 9 | AE91: 7
C92: 8 | E92: 1047902 | J92: 健康 大地 | Q92: ケンコウ ダイチ | Z92: 1988 | AC92: 7 | AE92: 8
C93: 9 | E93: 1047903 | J93: 佐藤 みさき | Q93: サトウ ミサキ | Z93: 1988 | AC93: 8 | AE93: 9
C94: 10 | E94: 1047904 | J94: 川嶋 美南 | Q94: カワシマ ミナミ | Z94: 1990 | AC94: 9 | AE94: 10
C95: 11 | E95: 1047998 | J95: 星 きらら | Q95: ホシ キララ | Z95: 1991 | AC95: 2 | AE95: 3
C96: 12 | E96: 1047999 | J96: 武田 京香 | Q96: タケダ キョウカ | Z96: 1991 | AC96: 1 | AE96: 1
A99: ４．エントリーについて
B100: □ | C100: 原則的に、下記の順でプログラムへ記載します。ただし、記録システム上、一部、反映できない場合があります。あらかじめご了承ください。
C101: 「デュエット」は、組「1」から順に、プログラムへ記載します。
C102: 「チーム」「フリーコンビネーション」は、組のABC順に、プログラムへ記載します。
C103: 「デュエット」「チーム」「フリーコンビネーション」の競技者は、表示順の1から順に、プログラムへ記載します。
C104: 申込の際、補欠としてエントリーする場合、表示順にデュエット：「R」、チーム、フリーコンビネーション：「R1]「R2」を入力してください。
C105: 「デュエット」「チーム」「フリーコンビネーション」競技者の平均年齢を選択してください。
B107: エントリー
B109: 氏 名 | J109: デュエット | X109: チーム | AL109: ﾌﾘｰｺﾝﾋﾞﾈｰｼｮﾝ
J110: 年齢区分 | N110: 組 | P110: 表示順 | X110: 年齢区分 | AB110: 組 | AD110: 表示順 | AL110: 年齢区分 | AP110: 組 | AR110: 表示順
B111: 高橋 瑞希 | J111: 18～29 | N111: 1 | P111: 1 | X111: 50～64 | AB111: A | AD111: 1 | AL111: 50～64 | AP111: A | AR111: 1
B112: 伊藤 咲子 | J112: 18～29 | N112: 1 | P112: 2 | X112: 50～64 | AB112: A | AD112: 2 | AL112: 50～64 | AP112: A | AR112: 2
B113: 高寄 優菜 | J113: 18～29 | N113: 1 | P113: R | R113: ←補欠（例 | X113: 50～64 | AB113: A | AD113: 3 | AL113: 50～64 | AP113: A | AR113: 3
B114: 小沢 さくら | J114: 60～69 | N114: 2 | P114: 2 | X114: 50～64 | AB114: A | AD114: 5 | AL114: 50～64 | AP114: A | AR114: 5
B115: 安住 佳純 | J115: 60～69 | N115: 2 | P115: 1 | X115: 50～64 | AB115: A | AD115: 4 | AL115: 50～64 | AP115: A | AR115: 4
B116: 飯塚 ひとみ | X116: 35～49 | AB116: B | AD116: 3 | AL116: 35～49 | AP116: A | AR116: 8
B117: 芦塚 恵那 | J117: 70～79 | N117: 3 | P117: 1 | X117: 35～49 | AB117: B | AD117: 1 | AL117: 35～49 | AP117: A | AR117: 6
B118: 健康 大地 | J118: 70～79 | N118: 3 | P118: 2 | X118: 35～49 | AB118: B | AD118: 2 | AL118: 35～49 | AP118: A | AR118: 7
B119: 佐藤 みさき | AP119: A | AR119: 10
B120: 川嶋 美南 | X120: 35～49 | AB120: B | AD120: 4 | AL120: 35～49 | AP120: A | AR120: 9
B121: 星 きらら | X121: 35～49 | AB121: B | AD121: R1 | AF121: ←補欠（例 | AL121: 35～49 | AP121: A | AR121: R1 | AT121: ←補欠（例
B122: 武田 京香 | X122: 35～49 | AB122: B | AD122: R2 | AF122: ←補欠（例 | AL122: 35～49 | AP122: A | AR122: R2 | AT122: ←補欠（例
J125: デュエット | X125: チーム | AL125: フリーコンビネーション
J126: 1 | K126: 18～29 | O126: 1 | P126: 高橋 瑞希 | X126: Ａ | Y126: 50～64 | AC126: 1 | AD126: 高橋 瑞希 | AL126: Ａ | AQ126: 1 | AR126: 高橋 瑞希
O127: 2 | P127: 伊藤 咲子 | AC127: 2 | AD127: 伊藤 咲子 | AQ127: 2 | AR127: 伊藤 咲子
O128: R | P128: 高寄 優菜 | AC128: 3 | AD128: 高寄 優菜 | AQ128: 3 | AR128: 高寄 優菜
J129: 2 | K129: 60～69 | O129: 1 | P129: 安住 佳純 | AC129: 4 | AD129: 安住 佳純 | AQ129: 4 | AR129: 安住 佳純
O130: 2 | P130: 小沢 さくら | AC130: 5 | AD130: 小沢 さくら | AQ130: 5 | AR130: 小沢 さくら
O131: R | AC131: 6 | AQ131: 6 | AR131: 芦塚 恵那
J132: 3 | K132: 70～79 | O132: 1 | P132: 芦塚 恵那 | AC132: 7 | AQ132: 7 | AR132: 健康 大地
O133: 2 | P133: 健康 大地 | AC133: 8 | AQ133: 8 | AR133: 飯塚 ひとみ
O134: R | AC134: R1 | AQ134: 9 | AR134: 川嶋 美南
AC135: R2 | AQ135: 10 | AR135: 佐藤 みさき
X136: Ｂ | Y136: 35～49 | AC136: 1 | AD136: 芦塚 恵那 | AQ136: R1 | AR136: 星 きらら
AC137: 2 | AD137: 健康 大地 | AQ137: R2 | AR137: 武田 京香
...

Sheet 入力シート
A1: エントリー入力シート（印刷不可）
A3: 大 会 名 | F3: 日本マスターズ水泳選手権大会 プレ大会 （ジャパンマスターズ プレ） アーティスティックスイミング競技 | AA3: ※記入上の注意
A4: 期 日 | AB4: 1．入力シートのみ記入すること。（印刷シートは確認のためだけのものです）
A5: 場 所 | AB5: 2．記入のミスなどの修正は必ず入力シートの該当箇所を変更すること。
A6: 団体名 | AB6: 3．記入後，必ず印刷シートを印刷して控えを残しておくこと。
A7: 団体略称 | AB7: 4．団体及び競技者番号は日本マスターズ水泳協会に登録がある場合のみ記載してください。
A8: 代表者名
A9: 団体番号
A10: 団体住所
A11: 団体Tel
A12: 団体Fax
A13: 連絡責任者
A14: 連絡先住所
A15: Tel
A16: Fax
A17: 携帯
A18: E-mail
A20: 番号 | C20: 競技者番号 | J20: 氏 名 | Q20: カタカナ氏名 | Z20: 生年月日 | AG20: デュエット | AO20: チーム | AW20: フリーコンビネーション
Z21: 西暦 | AC21: 月 | AE21: 日 | AG21: 年齢区分 | AK21: 組 | AM21: 表示順 | AO21: 年齢区分 | AS21: 組 | AU21: 表示順 | AW21: 年齢区分 | BA21: 組 | BC21: 表示順
A22: 1
A23: 2
A24: 3
A25: 4
A26: 5
A27: 6
A28: 7
A29: 8
A30: 9
A31: 10
A32: 11
A33: 12
... A61: 40

Sheet 確認シート（印刷版）
A1: 確認シート（印刷版）
A3: 大 会 名 | F3: =入力シート!F3 -> 日本マスターズ水泳選手権大会 プレ大会 （ジャパンマスターズ プレ） アーティスティックスイミング競技
A4: 期 日 | F4: =入力シート!F4 -> 0
A5: 場 所 | F5: =入力シート!F5 -> 0
A6: 団体名 | F6: =入力シート!F6 -> 0
A7: 団体略称 | F7: =入力シート!F7 -> 0
A8: 代表者名 | F8: =入力シート!F8 -> 0
A9: 団体番号 | F9: =入力シート!F9 -> 0 | AE9: 申込金
A10: 団体住所 | F10: =入力シート!F10 -> 0 | AE10: 種 目 | AM10: エントリー数 | AR10: 人 数 | AX10: 合計（円）
A11: 団体Tel | F11: =入力シート!F11 -> 0 | AE11: デュエット | AM11: =COUNTIF(AM22:AN61,1) -> 0 | AR11: =COUNTIF(AK22:AL61,">0") -> 0 | AX11: =AR11*4000 -> 0
A12: 団体Fax | F12: =入力シート!F12 -> 0 | AE12: チ ー ム | AM12: =COUNTIF(AU22:AV61,1) -> 0 | AR12: =COUNTIF(AU22:AV61,">0")+COUNTIF(AU22:AV61,"R1")+COUNTIF(AU22:AV61,"R2") -> 0 | AX12: =AR12*3000 -> 0
A13: 連絡責任者 | F13: =入力シート!F13 -> 0 | AE13: フリーコンビネーション | AM13: =COUNTIF(BC22:BD61,1) -> 0 | AR13: =COUNTIF(BC22:BD61,">0")+COUNTIF(BC22:BD61,"R1")+COUNTIF(BC22:BD61,"R2") -> 0 | AX13: =AR13*3000 -> 0
A14: 連絡先住所 | F14: =入力シート!F14 -> 0 | AE14: 合 計 | AM14: =SUM(AM11:AQ13) -> 0 | AR14: =SUM(AR11:AW13) -> 0 | AX14: =SUM(AX10:BD13) -> 0
A15: Tel | F15: =入力シート!F15 -> 0
A16: Fax | F16: =入力シート!F16 -> 0
A17: 携帯 | F17: =入力シート!F17 -> 0
A18: E-mail | F18: =入力シート!F18 -> 0
A20: 番号 | C20: 競技者番号 | J20: 氏 名 | Q20: カタカナ氏名 | Z20: 生年月日 | AG20: デュエット | AO20: チーム | AW20: フリーコンビネーション | BF20: デュエット | BS20: チーム | CF20: フリーコンビネーション
Z21: 西暦 | AC21: 月 | AE21: 日 | AG21: 年齢区分 | AK21: 組 | AM21: 表示順 | AO21: 年齢区分 | AS21: 組 | AU21: 表示順 | AW21: 年齢区分 | BA21: 組 | BC21: 表示順 | BF21: 組 | BG21: 年齢区分 | BL21: 氏名 | BS21: 組 | BT21: 年齢区分 | BY21: 氏名 | CF21: 組 | CG21: 年齢区分 | CL21: 氏名
A22: 1 | C22: =入力シート!C22 -> 0 | J22: =入力シート!J22 -> 0 | Q22: =入力シート!Q22 -> 0 | Z22: =入力シート!Z22 -> 0 | AC22: =入力シート!AC22 -> 0 | AE22: =入力シート!AE22 -> 0 | AG22: =入力シート!AG22 -> 0 | AK22: =入力シート!AK22 -> 0 | AM22: =入力シート!AM22 -> 0 | AO22: =入力シート!AO22 -> 0 | AS22: =入力シート!AS22 -> 0 | AU22: =入力シート!AU22 -> 0 | AW22: =入力シート!AW22 -> 0 | BA22: =入力シート!BA22 -> 0 | BC22: =入力シート!BC22 -> 0 | BF22: 1 | BG22: =VLOOKUP("11",WORK1!C4:E53,3,FALSE) -> #N/A | BK22: 1 | BL22: =VLOOKUP("11",WORK1!C4:E53,2,FALSE) -> #N/A | BS22: Ａ | BT22: =VLOOKUP("A1",WORK1!I4:K53,3,FALSE) -> #N/A | BX22: 1 | BY22: =VLOOKUP("A1",WORK1!I4:K53,2,FALSE) -> #N/A | CF22: Ａ | CG22: =VLOOKUP("A1",WORK1!O4:Q53,3,FALSE) -> #N/A | CK22: 1 | CL22: =VLOOKUP("A1",WORK1!O4:Q53,2,FALSE) -> #N/A
A23: 2 | C23: =入力シート!C23 -> 0 | J23: =入力シート!J23 -> 0 | Q23: =入力シート!Q23 -> 0 | Z23: =入力シート!Z23 -> 0 | AC23: =入力シート!AC23 -> 0 | AE23: =入力シート!AE23 -> 0 | AG23: =入力シート!AG23 -> 0 | AK23: =入力シート!AK23 -> 0 | AM23: =入力シート!AM23 -> 0 | AO23: =入力シート!AO23 -> 0 | AS23: =入力シート!AS23 -> 0 | AU23: =入力シート!AU23 -> 0 | AW23: =入力シート!AW23 -> 0 | BA23: =入力シート!BA23 -> 0 | BC23: =入力シート!BC23 -> 0 | BK23: 2 | BL23: =VLOOKUP("12",WORK1!C4:E53,2,FALSE) -> #N/A | BX23: 2 | BY23: =VLOOKUP("A2",WORK1!I4:K53,2,FALSE) -> #N/A | CK23: 2 | CL23: =VLOOKUP("A2",WORK1!O4:Q53,2,FALSE) -> #N/A
A24: 3 | C24: =入力シート!C24 -> 0 | J24: =入力シート!J24 -> 0 | Q24: =入力シート!Q24 -> 0 | Z24: =入力シート!Z24 -> 0 | AC24: =入力シート!AC24 -> 0 | AE24: =入力シート!AE24 -> 0 | AG24: =入力シート!AG24 -> 0 | AK24: =入力シート!AK24 -> 0 | AM24: =入力シート!AM24 -> 0 | AO24: =入力シート!AO24 -> 0 | AS24: =入力シート!AS24 -> 0 | AU24: =入力シート!AU24 -> 0 | AW24: =入力シート!AW24 -> 0 | BA24: =入力シート!BA24 -> 0 | BC24: =入力シート!BC24 -> 0 | BK24: R | BL24: =VLOOKUP("1R",WORK1!C4:E53,2,FALSE) -> #N/A | BX24: 3 | BY24: =VLOOKUP("A3",WORK1!I4:K53,2,FALSE) -> #N/A | CK24: 3 | CL24: =VLOOKUP("A3",WORK1!O4:Q53,2,FALSE) -> #N/A
A25: 4 | C25: =入力シート!C25 -> 0 | J25: =入力シート!J25 -> 0 | Q25: =入力シート!Q25 -> 0 | Z25: =入力シート!Z25 -> 0 | AC25: =入力シート!AC25 -> 0 | AE25: =入力シート!AE25 -> 0 | AG25: =入力シート!AG25 -> 0 | AK25: =入力シート!AK25 -> 0 | AM25: =入力シート!AM25 -> 0 | AO25: =入力シート!AO25 -> 0 | AS25: =入力シート!AS25 -> 0 | AU25: =入力シート!AU25 -> 0 | AW25: =入力シート!AW25 -> 0 | BA25: =入力シート!BA25 -> 0 | BC25: =入力シート!BC25 -> 0 | BF25: 2 | BG25: =VLOOKUP("21",WORK1!C4:E53,3,FALSE) -> #N/A | BK25: 1 | BL25: =VLOOKUP("21",WORK1!C4:E53,2,FALSE) -> #N/A | BX25: 4 | BY25: =VLOOKUP("A4",WORK1!I4:K53,2,FALSE) -> #N/A | CK25: 4 | CL25: =VLOOKUP("A4",WORK1!O4:Q53,2,FALSE) -> #N/A
A26: 5 | C26: =入力シート!C26 -> 0 | J26: =入力シート!J26 -> 0 | Q26: =入力シート!Q26 -> 0 | Z26: =入力シート!Z26 -> 0 | AC26: =入力シート!AC26 -> 0 | AE26: =入力シート!AE26 -> 0 | AG26: =入力シート!AG26 -> 0 | AK26: =入力シート!AK26 -> 0 | AM26: =入力シート!AM26 -> 0 | AO26: =入力シート!AO26 -> 0 | AS26: =入力シート!AS26 -> 0 | AU26: =入力シート!AU26 -> 0 | AW26: =入力シート!AW26 -> 0 | BA26: =入力シート!BA26 -> 0 | BC26: =入力シート!BC26 -> 0 | BK26: 2 | BL26: =VLOOKUP("22",WORK1!C4:E53,2,FALSE) -> #N/A | BX26: 5 | BY26: =VLOOKUP("A5",WORK1!I4:K53,2,FALSE) -> #N/A | CK26: 5 | CL26: =VLOOKUP("A5",WORK1!O4:Q53,2,FALSE) -> #N/A
A27: 6 | C27: =入力シート!C27 -> 0 | J27: =入力シート!J27 -> 0 | Q27: =入力シート!Q27 -> 0 | Z27: =入力シート!Z27 -> 0 | AC27: =入力シート!AC27 -> 0 | AE27: =入力シート!AE27 -> 0 | AG27: =入力シート!AG27 -> 0 | AK27: =入力シート!AK27 -> 0 | AM27: =入力シート!AM27 -> 0 | AO27: =入力シート!AO27 -> 0 | AS27: =入力シート!AS27 -> 0 | AU27: =入力シート!AU27 -> 0 | AW27: =入力シート!AW27 -> 0 | BA27: =入力シート!BA27 -> 0 | BC27: =入力シート!BC27 -> 0 | BK27: R | BL27: =VLOOKUP("2R",WORK1!C4:E53,2,FALSE) -> #N/A | BX27: 6 | BY27: =VLOOKUP("A6",WORK1!I4:K53,2,FALSE) -> #N/A | CK27: 6 | CL27: =VLOOKUP("A6",WORK1!O4:Q53,2,FALSE) -> #N/A
A28: 7 | C28: =入力シート!C28 -> 0 | J28: =入力シート!J28 -> 0 | Q28: =入力シート!Q28 -> 0 | Z28: =入力シート!Z28 -> 0 | AC28: =入力シート!AC28 -> 0 | AE28: =入力シート!AE28 -> 0 | AG28: =入力シート!AG28 -> 0 | AK28: =入力シート!AK28 -> 0 | AM28: =入力シート!AM28 -> 0 | AO28: =入力シート!AO28 -> 0 | AS28: =入力シート!AS28 -> 0 | AU28: =入力シート!AU28 -> 0 | AW28: =入力シート!AW28 -> 0 | BA28: =入力シート!BA28 -> 0 | BC28: =入力シート!BC28 -> 0 | BF28: 3 | BG28: =VLOOKUP("31",WORK1!C4:E53,3,FALSE) -> #N/A | BK28: 1 | BL28: =VLOOKUP("31",WORK1!C4:E53,2,FALSE) -> #N/A | BX28: 7 | BY28: =VLOOKUP("A7",WORK1!I4:K53,2,FALSE) -> #N/A | CK28: 7 | CL28: =VLOOKUP("A7",WORK1!O4:Q53,2,FALSE) -> #N/A
A29: 8 | C29: =入力シート!C29 -> 0 | J29: =入力シート!J29 -> 0 | Q29: =入力シート!Q29 -> 0 | Z29: =入力シート!Z29 -> 0 | AC29: =入力シート!AC29 -> 0 | AE29: =入力シート!AE29 -> 0 | AG29: =入力シート!AG29 -> 0 | AK29: =入力シート!AK29 -> 0 | AM29: =入力シート!AM29 -> 0 | AO29: =入力シート!AO29 -> 0 | AS29: =入力シート!AS29 -> 0 | AU29: =入力シート!AU29 -> 0 | AW29: =入力シート!AW29 -> 0 | BA29: =入力シート!BA29 -> 0 | BC29: =入力シート!BC29 -> 0 | BK29: 2 | BL29: =VLOOKUP("32",WORK1!C4:E53,2,FALSE) -> #N/A | BX29: 8 | BY29: =VLOOKUP("A8",WORK1!I4:K53,2,FALSE) -> #N/A | CK29: 8 | CL29: =VLOOKUP("A8",WORK1!O4:Q53,2,FALSE) -> #N/A
A30: 9 | C30: =入力シート!C30 -> 0 | J30: =入力シート!J30 -> 0 | Q30: =入力シート!Q30 -> 0 | Z30: =入力シート!Z30 -> 0 | AC30: =入力シート!AC30 -> 0 | AE30: =入力シート!AE30 -> 0 | AG30: =入力シート!AG30 -> 0 | AK30: =入力シート!AK30 -> 0 | AM30: =入力シート!AM30 -> 0 | AO30: =入力シート!AO30 -> 0 | AS30: =入力シート!AS30 -> 0 | AU30: =入力シート!AU30 -> 0 | AW30: =入力シート!AW30 -> 0 | BA30: =入力シート!BA30 -> 0 | BC30: =入力シート!BC30 -> 0 | BK30: R | BL30: =VLOOKUP("3R",WORK1!C4:E53,2,FALSE) -> #N/A | BX30: R1 | BY30: =VLOOKUP("AR1",WORK1!I4:K53,2,FALSE) -> #N/A | CK30: 9 | CL30: =VLOOKUP("A9",WORK1!O4:Q53,2,FALSE) -> #N/A
A31: 10 | C31: =入力シート!C31 -> 0 | J31: =入力シート!J31 -> 0 | Q31: =入力シート!Q31 -> 0 | Z31: =入力シート!Z31 -> 0 | AC31: =入力シート!AC31 -> 0 | AE31: =入力シート!AE31 -> 0 | AG31: =入力シート!AG31 -> 0 | AK31: =入力シート!AK31 -> 0 | AM31: =入力シート!AM31 -> 0 | AO31: =入力シート!AO31 -> 0 | AS31: =入力シート!AS31 -> 0 | AU31: =入力シート!AU31 -> 0 | AW31: =入力シート!AW31 -> 0 | BA31: =入力シート!BA31 -> 0 | BC31: =入力シート!BC31 -> 0 | BF31: 4 | BG31: =VLOOKUP("41",WORK1!C4:E53,3,FALSE) -> #N/A | BK31: 1 | BL31: =VLOOKUP("41",WORK1!C4:E53,2,FALSE) -> #N/A | BX31: R2 | BY31: =VLOOKUP("AR2",WORK1!I4:K53,2,FALSE) -> #N/A | CK31: 10 | CL31: =VLOOKUP("A10",WORK1!O4:Q53,2,FALSE) -> #N/A
A32: 11 | C32: =入力シート!C32 -> 0 | J32: =入力シート!J32 -> 0 | Q32: =入力シート!Q32 -> 0 | Z32: =入力シート!Z32 -> 0 | AC32: =入力シート!AC32 -> 0 | AE32: =入力シート!AE32 -> 0 | AG32: =入力シート!AG32 -> 0 | AK32: =入力シート!AK32 -> 0 | AM32: =入力シート!AM32 -> 0 | AO32: =入力シート!AO32 -> 0 | AS32: =入力シート!AS32 -> 0 | AU32: =入力シート!AU32 -> 0 | AW32: =入力シート!AW32 -> 0 | BA32: =入力シート!BA32 -> 0 | BC32: =入力シート!BC32 -> 0 | BK32: 2 | BL32: =VLOOKUP("42",WORK1!C4:E53,2,FALSE) -> #N/A | BS32: Ｂ | BT32: =VLOOKUP("B1",WORK1!I4:K53,3,FALSE) -> #N/A | BX32: 1 | BY32: =VLOOKUP("B1",WORK1!I4:K53,2,FALSE) -> #N/A | CK32: R1 | CL32: =VLOOKUP("AR1",WORK1!O4:Q53,2,FALSE) -> #N/A
A33: 12 | C33: =入力シート!C33 -> 0 | J33: =入力シート!J33 -> 0 | Q33: =入力シート!Q33 -> 0 | Z33: =入力シート!Z33 -> 0 | AC33: =入力シート!AC33 -> 0 | AE33: =入力シート!AE33 -> 0 | AG33: =入力シート!AG33 -> 0 | AK33: =入力シート!AK33 -> 0 | AM33: =入力シート!AM33 -> 0 | AO33: =入力シート!AO33 -> 0 | AS33: =入力シート!AS33 -> 0 | AU33: =入力シート!AU33 -> 0 | AW33: =入力シート!AW33 -> 0 | BA33: =入力シート!BA33 -> 0 | BC33: =入力シート!BC33 -> 0 | BK33: R | BL33: =VLOOKUP("4R",WORK1!C4:E53,2,FALSE) -> #N/A | BX33: 2 | BY33: =VLOOKUP("B2",WORK1!I4:K53,2,FALSE) -> #N/A | CK33: R2 | CL33: =VLOOKUP("AR2",WORK1!O4:Q53,2,FALSE) -> #N/A
A34: 13 | C34: =入力シート!C34 -> 0 | J34: =入力シート!J34 -> 0 | Q34: =入力シート!Q34 -> 0 | Z34: =入力シート!Z34 -> 0 | AC34: =入力シート!AC34 -> 0 | AE34: =入力シート!AE34 -> 0 | AG34: =入力シート!AG34 -> 0 | AK34: =入力シート!AK34 -> 0 | AM34: =入力シート!AM34 -> 0 | AO34: =入力シート!AO34 -> 0 | AS34: =入力シート!AS34 -> 0 | AU34: =入力シート!AU34 -> 0 | AW34: =入力シート!AW34 -> 0 | BA34: =入力シート!BA34 -> 0 | BC34: =入力シート!BC34 -> 0 | BF34: 5 | BG34: =VLOOKUP("51",WORK1!C4:E53,3,FALSE) -> #N/A | BK34: 1 | BL34: =VLOOKUP("51",WORK1!C4:E53,2,FALSE) -> #N/A | BX34: 3 | BY34: =VLOOKUP("B3",WORK1!I4:K53,2,FALSE) -> #N/A | CF34: Ｂ | CG34: =VLOOKUP("B1",WORK1!O4:Q53,3,FALSE) -> #N/A | CK34: 1 | CL34: =VLOOKUP("B1",WORK1!O4:Q53,2,FALSE) -> #N/A
A35: 14 | C35: =入力シート!C35 -> 0 | J35: =入力シート!J35 -> 0 | Q35: =入力シート!Q35 -> 0 | Z35: =入力シート!Z35 -> 0 | AC35: =入力シート!AC35 -> 0 | AE35: =入力シート!AE35 -> 0 | AG35: =入力シート!AG35 -> 0 | AK35: =入力シート!AK35 -> 0 | AM35: =入力シート!AM35 -> 0 | AO35: =入力シート!AO35 -> 0 | AS35: =入力シート!AS35 -> 0 | AU35: =入力シート!AU35 -> 0 | AW35: =入力シート!AW35 -> 0 | BA35: =入力シート!BA35 -> 0 | BC35: =入力シート!BC35 -> 0 | BK35: 2 | BL35: =VLOOKUP("52",WORK1!C4:E53,2,FALSE) -> #N/A | BX35: 4 | BY35: =VLOOKUP("B4",WORK1!I4:K53,2,FALSE) -> #N/A | CK35: 2 | CL35: =VLOOKUP("B2",WORK1!O4:Q53,2,FALSE) -> #N/A
A36: 15 | C36: =入力シート!C36 -> 0 | J36: =入力シート!J36 -> 0 | Q36: =入力シート!Q36 -> 0 | Z36: =入力シート!Z36 -> 0 | AC36: =入力シート!AC36 -> 0 | AE36: =入力シート!AE36 -> 0 | AG36: =入力シート!AG36 -> 0 | AK36: =入力シート!AK36 -> 0 | AM36: =入力シート!AM36 -> 0 | AO36: =入力シート!AO36 -> 0 | AS36: =入力シート!AS36 -> 0 | AU36: =入力シート!AU36 -> 0 | AW36: =入力シート!AW36 -> 0 | BA36: =入力シート!BA36 -> 0 | BC36: =入力シート!BC36 -> 0 | BK36: R | BL36: =VLOOKUP("5R",WORK1!C4:E53,2,FALSE) -> #N/A | BX36: 5 | BY36: =VLOOKUP("B5",WORK1!I4:K53,2,FALSE) -> #N/A | CK36: 3 | CL36: =VLOOKUP("B3",WORK1!O4:Q53,2,FALSE) -> #N/A
A37: 16 | C37: =入力シート!C37 -> 0 | J37: =入力シート!J37 -> 0 | Q37: =入力シート!Q37 -> 0 | Z37: =入力シート!Z37 -> 0 | AC37: =入力シート!AC37 -> 0 | AE37: =入力シート!AE37 -> 0 | AG37: =入力シート!AG37 -> 0 | AK37: =入力シート!AK37 -> 0 | AM37: =入力シート!AM37 -> 0 | AO37: =入力シート!AO37 -> 0 | AS37: =入力シート!AS37 -> 0 | AU37: =入力シート!AU37 -> 0 | AW37: =入力シート!AW37 -> 0 | BA37: =入力シート!BA37 -> 0 | BC37: =入力シート!BC37 -> 0 | BF37: 6 | BG37: =VLOOKUP("61",WORK1!C4:E53,3,FALSE) -> #N/A | BK37: 1 | BL37: =VLOOKUP("61",WORK1!C4:E53,2,FALSE) -> #N/A | BX37: 6 | BY37: =VLOOKUP("B6",WORK1!I4:K53,2,FALSE) -> #N/A | CK37: 4 | CL37: =VLOOKUP("B4",WORK1!O4:Q53,2,FALSE) -> #N/A
A38: 17 | C38: =入力シート!C38 -> 0 | J38: =入力シート!J38 -> 0 | Q38: =入力シート!Q38 -> 0 | Z38: =入力シート!Z38 -> 0 | AC38: =入力シート!AC38 -> 0 | AE38: =入力シート!AE38 -> 0 | AG38: =入力シート!AG38 -> 0 | AK38: =入力シート!AK38 -> 0 | AM38: =入力シート!AM38 -> 0 | AO38: =入力シート!AO38 -> 0 | AS38: =入力シート!AS38 -> 0 | AU38: =入力シート!AU38 -> 0 | AW38: =入力シート!AW38 -> 0 | BA38: =入力シート!BA38 -> 0 | BC38: =入力シート!BC38 -> 0 | BK38: 2 | BL38: =VLOOKUP("62",WORK1!C4:E53,2,FALSE) -> #N/A | BX38: 7 | BY38: =VLOOKUP("B7",WORK1!I4:K53,2,FALSE) -> #N/A | CK38: 5 | CL38: =VLOOKUP("B5",WORK1!O4:Q53,2,FALSE) -> #N/A
A39: 18 | C39: =入力シート!C39 -> 0 | J39: =入力シート!J39 -> 0 | Q39: =入力シート!Q39 -> 0 | Z39: =入力シート!Z39 -> 0 | AC39: =入力シート!AC39 -> 0 | AE39: =入力シート!AE39 -> 0 | AG39: =入力シート!AG39 -> 0 | AK39: =入力シート!AK39 -> 0 | AM39: =入力シート!AM39 -> 0 | AO39: =入力シート!AO39 -> 0 | AS39: =入力シート!AS39 -> 0 | AU39: =入力シート!AU39 -> 0 | AW39: =入力シート!AW39 -> 0 | BA39: =入力シート!BA39 -> 0 | BC39: =入力シート!BC39 -> 0 | BK39: R | BL39: =VLOOKUP("6R",WORK1!C4:E53,2,FALSE) -> #N/A | BX39: 8 | BY39: =VLOOKUP("B8",WORK1!I4:K53,2,FALSE) -> #N/A | CK39: 6 | CL39: =VLOOKUP("B6",WORK1!O4:Q53,2,FALSE) -> #N/A
A40: 19 | C40: =入力シート!C40 -> 0 | J40: =入力シート!J40 -> 0 | Q40: =入力シート!Q40 -> 0 | Z40: =入力シート!Z40 -> 0 | AC40: =入力シート!AC40 -> 0 | AE40: =入力シート!AE40 -> 0 | AG40: =入力シート!AG40 -> 0 | AK40: =入力シート!AK40 -> 0 | AM40: =入力シート!AM40 -> 0 | AO40: =入力シート!AO40 -> 0 | AS40: =入力シート!AS40 -> 0 | AU40: =入力シート!AU40 -> 0 | AW40: =入力シート!AW40 -> 0 | BA40: =入力シート!BA40 -> 0 | BC40: =入力シート!BC40 -> 0 | BF40: 7 | BG40: =VLOOKUP("71",WORK1!C4:E53,3,FALSE) -> #N/A | BK40: 1 | BL40: =VLOOKUP("71",WORK1!C4:E53,2,FALSE) -> #N/A | BX40: R1 | BY40: =VLOOKUP("BR1",WORK1!I4:K53,2,FALSE) -> #N/A | CK40: 7 | CL40: =VLOOKUP("B7",WORK1!O4:Q53,2,FALSE) -> #N/A
A41: 20 | C41: =入力シート!C41 -> 0 | J41: =入力シート!J41 -> 0 | Q41: =入力シート!Q41 -> 0 | Z41: =入力シート!Z41 -> 0 | AC41: =入力シート!AC41 -> 0 | AE41: =入力シート!AE41 -> 0 | AG41: =入力シート!AG41 -> 0 | AK41: =入力シート!AK41 -> 0 | AM41: =入力シート!AM41 -> 0 | AO41: =入力シート!AO41 -> 0 | AS41: =入力シート!AS41 -> 0 | AU41: =入力シート!AU41 -> 0 | AW41: =入力シート!AW41 -> 0 | BA41: =入力シート!BA41 -> 0 | BC41: =入力シート!BC41 -> 0 | BK41: 2 | BL41: =VLOOKUP("72",WORK1!C4:E53,2,FALSE) -> #N/A | BX41: R2 | BY41: =VLOOKUP("BR2",WORK1!I4:K53,2,FALSE) -> #N/A | CK41: 8 | CL41: =VLOOKUP("B8",WORK1!O4:Q53,2,FALSE) -> #N/A
A42: 21 | C42: =入力シート!C42 -> 0 | J42: =入力シート!J42 -> 0 | Q42: =入力シート!Q42 -> 0 | Z42: =入力シート!Z42 -> 0 | AC42: =入力シート!AC42 -> 0 | AE42: =入力シート!AE42 -> 0 | AG42: =入力シート!AG42 -> 0 | AK42: =入力シート!AK42 -> 0 | AM42: =入力シート!AM42 -> 0 | AO42: =入力シート!AO42 -> 0 | AS42: =入力シート!AS42 -> 0 | AU42: =入力シート!AU42 -> 0 | AW42: =入力シート!AW42 -> 0 | BA42: =入力シート!BA42 -> 0 | BC42: =入力シート!BC42 -> 0 | BK42: R | BL42: =VLOOKUP("7R",WORK1!C4:E53,2,FALSE) -> #N/A | BS42: Ｃ | BT42: =VLOOKUP("C1",WORK1!I4:J53,3,FALSE) -> #N/A | BX42: 1 | BY42: =VLOOKUP("C1",WORK1!I4:K53,2,FALSE) -> #N/A | CK42: 9 | CL42: =VLOOKUP("B9",WORK1!O4:Q53,2,FALSE) -> #N/A
A43: 22 | C43: =入力シート!C43 -> 0 | J43: =入力シート!J43 -> 0 | Q43: =入力シート!Q43 -> 0 | Z43: =入力シート!Z43 -> 0 | AC43: =入力シート!AC43 -> 0 | AE43: =入力シート!AE43 -> 0 | AG43: =入力シート!AG43 -> 0 | AK43: =入力シート!AK43 -> 0 | AM43: =入力シート!AM43 -> 0 | AO43: =入力シート!AO43 -> 0 | AS43: =入力シート!AS43 -> 0 | AU43: =入力シート!AU43 -> 0 | AW43: =入力シート!AW43 -> 0 | BA43: =入力シート!BA43 -> 0 | BC43: =入力シート!BC43 -> 0 | BF43: 8 | BG43: =VLOOKUP("1",WORK1!C4:E53,3,FALSE) -> #N/A | BK43: 1 | BL43: =VLOOKUP("81",WORK1!C4:E53,2,FALSE) -> #N/A | BX43: 2 | BY43: =VLOOKUP("C2",WORK1!I4:K53,2,FALSE) -> #N/A | CK43: 10 | CL43: =VLOOKUP("B10",WORK1!O4:Q53,2,FALSE) -> #N/A
A44: 23 | C44: =入力シート!C44 -> 0 | J44: =入力シート!J44 -> 0 | Q44: =入力シート!Q44 -> 0 | Z44: =入力シート!Z44 -> 0 | AC44: =入力シート!AC44 -> 0 | AE44: =入力シート!AE44 -> 0 | AG44: =入力シート!AG44 -> 0 | AK44: =入力シート!AK44 -> 0 | AM44: =入力シート!AM44 -> 0 | AO44: =入力シート!AO44 -> 0 | AS44: =入力シート!AS44 -> 0 | AU44: =入力シート!AU44 -> 0 | AW44: =入力シート!AW44 -> 0 | BA44: =入力シート!BA44 -> 0 | BC44: =入力シート!BC44 -> 0 | BK44: 2 | BL44: =VLOOKUP("82",WORK1!C4:E53,2,FALSE) -> #N/A | BX44: 3 | BY44: =VLOOKUP("C3",WORK1!I4:K53,2,FALSE) -> #N/A | CK44: R1 | CL44: =VLOOKUP("BR1",WORK1!O4:Q53,2,FALSE) -> #N/A
A45: 24 | C45: =入力シート!C45 -> 0 | J45: =入力シート!J45 -> 0 | Q45: =入力シート!Q45 -> 0 | Z45: =入力シート!Z45 -> 0 | AC45: =入力シート!AC45 -> 0 | AE45: =入力シート!AE45 -> 0 | AG45: =入力シート!AG45 -> 0 | AK45: =入力シート!AK45 -> 0 | AM45: =入力シート!AM45 -> 0 | AO45: =入力シート!AO45 -> 0 | AS45: =入力シート!AS45 -> 0 | AU45: =入力シート!AU45 -> 0 | AW45: =入力シート!AW45 -> 0 | BA45: =入力シート!BA45 -> 0 | BC45: =入力シート!BC45 -> 0 | BK45: R | BL45: =VLOOKUP("8R",WORK1!C4:E53,2,FALSE) -> #N/A | BX45: 4 | BY45: =VLOOKUP("C4",WORK1!I4:K53,2,FALSE) -> #N/A | CK45: R2 | CL45: =VLOOKUP("BR2",WORK1!O4:Q53,2,FALSE) -> #N/A
A46: 25 | C46: =入力シート!C46 -> 0 | J46: =入力シート!J46 -> 0 | Q46: =入力シート!Q46 -> 0 | Z46: =入力シート!Z46 -> 0 | AC46: =入力シート!AC46 -> 0 | AE46: =入力シート!AE46 -> 0 | AG46: =入力シート!AG46 -> 0 | AK46: =入力シート!AK46 -> 0 | AM46: =入力シート!AM46 -> 0 | AO46: =入力シート!AO46 -> 0 | AS46: =入力シート!AS46 -> 0 | AU46: =入力シート!AU46 -> 0 | AW46: =入力シート!AW46 -> 0 | BA46: =入力シート!BA46 -> 0 | BC46: =入力シート!BC46 -> 0 | BF46: 9 | BG46: =VLOOKUP("91",WORK1!C4:E53,3,FALSE) -> #N/A | BK46: 1 | BL46: =VLOOKUP("91",WORK1!C4:E53,2,FALSE) -> #N/A | BX46: 5 | BY46: =VLOOKUP("C5",WORK1!I4:K53,2,FALSE) -> #N/A | CF46: C | CG46: =VLOOKUP("C1",WORK1!O4:Q53,3,FALSE) -> #N/A | CK46: 1 | CL46: =VLOOKUP("C1",WORK1!O4:Q53,2,FALSE) -> #N/A
A47: 26 | C47: =入力シート!C47 -> 0 | J47: =入力シート!J47 -> 0 | Q47: =入力シート!Q47 -> 0 | Z47: =入力シート!Z47 -> 0 | AC47: =入力シート!AC47 -> 0 | AE47: =入力シート!AE47 -> 0 | AG47: =入力シート!AG47 -> 0 | AK47: =入力シート!AK47 -> 0 | AM47: =入力シート!AM47 -> 0 | AO47: =入力シート!AO47 -> 0 | AS47: =入力シート!AS47 -> 0 | AU47: =入力シート!AU47 -> 0 | AW47: =入力シート!AW47 -> 0 | BA47: =入力シート!BA47 -> 0 | BC47: =入力シート!BC47 -> 0 | BK47: 2 | BL47: =VLOOKUP("92",WORK1!C4:E53,2,FALSE) -> #N/A | BX47: 6 | BY47: =VLOOKUP("C6",WORK1!I4:K53,2,FALSE) -> #N/A | CK47: 2 | CL47: =VLOOKUP("C2",WORK1!O4:Q53,2,FALSE) -> #N/A
A48: 27 | C48: =入力シート!C48 -> 0 | J48: =入力シート!J48 -> 0 | Q48: =入力シート!Q48 -> 0 | Z48: =入力シート!Z48 -> 0 | AC48: =入力シート!AC48 -> 0 | AE48: =入力シート!AE48 -> 0 | AG48: =入力シート!AG48 -> 0 | AK48: =入力シート!AK48 -> 0 | AM48: =入力シート!AM48 -> 0 | AO48: =入力シート!AO48 -> 0 | AS48: =入力シート!AS48 -> 0 | AU48: =入力シート!AU48 -> 0 | AW48: =入力シート!AW48 -> 0 | BA48: =入力シート!BA48 -> 0 | BC48: =入力シート!BC48 -> 0 | BK48: R | BL48: =VLOOKUP("9R",WORK1!C4:E53,2,FALSE) -> #N/A | BX48: 7 | BY48: =VLOOKUP("C7",WORK1!I4:K53,2,FALSE) -> #N/A | CK48: 3 | CL48: =VLOOKUP("C3",WORK1!O4:Q53,2,FALSE) -> #N/A
A49: 28 | C49: =入力シート!C49 -> 0 | J49: =入力シート!J49 -> 0 | Q49: =入力シート!Q49 -> 0 | Z49: =入力シート!Z49 -> 0 | AC49: =入力シート!AC49 -> 0 | AE49: =入力シート!AE49 -> 0 | AG49: =入力シート!AG49 -> 0 | AK49: =入力シート!AK49 -> 0 | AM49: =入力シート!AM49 -> 0 | AO49: =入力シート!AO49 -> 0 | AS49: =入力シート!AS49 -> 0 | AU49: =入力シート!AU49 -> 0 | AW49: =入力シート!AW49 -> 0 | BA49: =入力シート!BA49 -> 0 | BC49: =入力シート!BC49 -> 0 | BF49: 10 | BG49: =VLOOKUP("101",WORK1!C4:E53,3,FALSE) -> #N/A | BK49: 1 | BL49: =VLOOKUP("101",WORK1!C4:E53,2,FALSE) -> #N/A | BX49: 8 | BY49: =VLOOKUP("C8",WORK1!I4:K53,2,FALSE) -> #N/A | CK49: 4 | CL49: =VLOOKUP("C4",WORK1!O4:Q53,2,FALSE) -> #N/A
A50: 29 | C50: =入力シート!C50 -> 0 | J50: =入力シート!J50 -> 0 | Q50: =入力シート!Q50 -> 0 | Z50: =入力シート!Z50 -> 0 | AC50: =入力シート!AC50 -> 0 | AE50: =入力シート!AE50 -> 0 | AG50: =入力シート!AG50 -> 0 | AK50: =入力シート!AK50 -> 0 | AM50: =入力シート!AM50 -> 0 | AO50: =入力シート!AO50 -> 0 | AS50: =入力シート!AS50 -> 0 | AU50: =入力シート!AU50 -> 0 | AW50: =入力シート!AW50 -> 0 | BA50: =入力シート!BA50 -> 0 | BC50: =入力シート!BC50 -> 0 | BK50: 2 | BL50: =VLOOKUP("102",WORK1!C4:E53,2,FALSE) -> #N/A | BX50: R1 | BY50: =VLOOKUP("CR1",WORK1!I4:K53,2,FALSE) -> #N/A | CK50: 5 | CL50: =VLOOKUP("C5",WORK1!O4:Q53,2,FALSE) -> #N/A
A51: 30 | C51: =入力シート!C51 -> 0 | J51: =入力シート!J51 -> 0 | Q51: =入力シート!Q51 -> 0 | Z51: =入力シート!Z51 -> 0 | AC51: =入力シート!AC51 -> 0 | AE51: =入力シート!AE51 -> 0 | AG51: =入力シート!AG51 -> 0 | AK51: =入力シート!AK51 -> 0 | AM51: =入力シート!AM51 -> 0 | AO51: =入力シート!AO51 -> 0 | AS51: =入力シート!AS51 -> 0 | AU51: =入力シート!AU51 -> 0 | AW51: =入力シート!AW51 -> 0 | BA51: =入力シート!BA51 -> 0 | BC51: =入力シート!BC51 -> 0 | BK51: R | BL51: =VLOOKUP("10R",WORK1!C4:E53,2,FALSE) -> #N/A | BX51: R2 | BY51: =VLOOKUP("CR2",WORK1!I4:K53,2,FALSE) -> #N/A | CK51: 6 | CL51: =VLOOKUP("C6",WORK1!O4:Q53,2,FALSE) -> #N/A
A52: 31 | C52: =入力シート!C52 -> 0 | J52: =入力シート!J52 -> 0 | Q52: =入力シート!Q52 -> 0 | Z52: =入力シート!Z52 -> 0 | AC52: =入力シート!AC52 -> 0 | AE52: =入力シート!AE52 -> 0 | AG52: =入力シート!AG52 -> 0 | AK52: =入力シート!AK52 -> 0 | AM52: =入力シート!AM52 -> 0 | AO52: =入力シート!AO52 -> 0 | AS52: =入力シート!AS52 -> 0 | AU52: =入力シート!AU52 -> 0 | AW52: =入力シート!AW52 -> 0 | BA52: =入力シート!BA52 -> 0 | BC52: =入力シート!BC52 -> 0 | CK52: 7 | CL52: =VLOOKUP("C7",WORK1!O4:Q53,2,FALSE) -> #N/A
A53: 32 | C53: =入力シート!C53 -> 0 | J53: =入力シート!J53 -> 0 | Q53: =入力シート!Q53 -> 0 | Z53: =入力シート!Z53 -> 0 | AC53: =入力シート!AC53 -> 0 | AE53: =入力シート!AE53 -> 0 | AG53: =入力シート!AG53 -> 0 | AK53: =入力シート!AK53 -> 0 | AM53: =入力シート!AM53 -> 0 | AO53: =入力シート!AO53 -> 0 | AS53: =入力シート!AS53 -> 0 | AU53: =入力シート!AU53 -> 0 | AW53: =入力シート!AW53 -> 0 | BA53: =入力シート!BA53 -> 0 | BC53: =入力シート!BC53 -> 0 | CK53: 8 | CL53: =VLOOKUP("C8",WORK1!O4:Q53,2,FALSE) -> #N/A
A54: 33 | C54: =入力シート!C54 -> 0 | J54: =入力シート!J54 -> 0 | Q54: =入力シート!Q54 -> 0 | Z54: =入力シート!Z54 -> 0 | AC54: =入力シート!AC54 -> 0 | AE54: =入力シート!AE54 -> 0 | AG54: =入力シート!AG54 -> 0 | AK54: =入力シート!AK54 -> 0 | AM54: =入力シート!AM54 -> 0 | AO54: =入力シート!AO54 -> 0 | AS54: =入力シート!AS54 -> 0 | AU54: =入力シート!AU54 -> 0 | AW54: =入力シート!AW54 -> 0 | BA54: =入力シート!BA54 -> 0 | BC54: =入力シート!BC54 -> 0 | CK54: 9 | CL54: =VLOOKUP("C9",WORK1!O4:Q53,2,FALSE) -> #N/A
A55: 34 | C55: =入力シート!C55 -> 0 | J55: =入力シート!J55 -> 0 | Q55: =入力シート!Q55 -> 0 | Z55: =入力シート!Z55 -> 0 | AC55: =入力シート!AC55 -> 0 | AE55: =入力シート!AE55 -> 0 | AG55: =入力シート!AG55 -> 0 | AK55: =入力シート!AK55 -> 0 | AM55: =入力シート!AM55 -> 0 | AO55: =入力シート!AO55 -> 0 | AS55: =入力シート!AS55 -> 0 | AU55: =入力シート!AU55 -> 0 | AW55: =入力シート!AW55 -> 0 | BA55: =入力シート!BA55 -> 0 | BC55: =入力シート!BC55 -> 0 | CK55: 10 | CL55: =VLOOKUP("C10",WORK1!O4:Q53,2,FALSE) -> #N/A
A56: 35 | C56: =入力シート!C56 -> 0 | J56: =入力シート!J56 -> 0 | Q56: =入力シート!Q56 -> 0 | Z56: =入力シート!Z56 -> 0 | AC56: =入力シート!AC56 -> 0 | AE56: =入力シート!AE56 -> 0 | AG56: =入力シート!AG56 -> 0 | AK56: =入力シート!AK56 -> 0 | AM56: =入力シート!AM56 -> 0 | AO56: =入力シート!AO56 -> 0 | AS56: =入力シート!AS56 -> 0 | AU56: =入力シート!AU56 -> 0 | AW56: =入力シート!AW56 -> 0 | BA56: =入力シート!BA56 -> 0 | BC56: =入力シート!BC56 -> 0 | CK56: R1 | CL56: =VLOOKUP("CR1",WORK1!O4:Q53,2,FALSE) -> #N/A
A57: 36 | C57: =入力シート!C57 -> 0 | J57: =入力シート!J57 -> 0 | Q57: =入力シート!Q57 -> 0 | Z57: =入力シート!Z57 -> 0 | AC57: =入力シート!AC57 -> 0 | AE57: =入力シート!AE57 -> 0 | AG57: =入力シート!AG57 -> 0 | AK57: =入力シート!AK57 -> 0 | AM57: =入力シート!AM57 -> 0 | AO57: =入力シート!AO57 -> 0 | AS57: =入力シート!AS57 -> 0 | AU57: =入力シート!AU57 -> 0 | AW57: =入力シート!AW57 -> 0 | BA57: =入力シート!BA57 -> 0 | BC57: =入力シート!BC57 -> 0 | CK57: R2 | CL57: =VLOOKUP("CR2",WORK1!O4:Q53,2,FALSE) -> #N/A
A58: 37 | C58: =入力シート!C58 -> 0 | J58: =入力シート!J58 -> 0 | Q58: =入力シート!Q58 -> 0 | Z58: =入力シート!Z58 -> 0 | AC58: =入力シート!AC58 -> 0 | AE58: =入力シート!AE58 -> 0 | AG58: =入力シート!AG58 -> 0 | AK58: =入力シート!AK58 -> 0 | AM58: =入力シート!AM58 -> 0 | AO58: =入力シート!AO58 -> 0 | AS58: =入力シート!AS58 -> 0 | AU58: =入力シート!AU58 -> 0 | AW58: =入力シート!AW58 -> 0 | BA58: =入力シート!BA58 -> 0 | BC58: =入力シート!BC58 -> 0
A59: 38 | C59: =入力シート!C59 -> 0 | J59: =入力シート!J59 -> 0 | Q59: =入力シート!Q59 -> 0 | Z59: =入力シート!Z59 -> 0 | AC59: =入力シート!AC59 -> 0 | AE59: =入力シート!AE59 -> 0 | AG59: =入力シート!AG59 -> 0 | AK59: =入力シート!AK59 -> 0 | AM59: =入力シート!AM59 -> 0 | AO59: =入力シート!AO59 -> 0 | AS59: =入力シート!AS59 -> 0 | AU59: =入力シート!AU59 -> 0 | AW59: =入力シート!AW59 -> 0 | BA59: =入力シート!BA59 -> 0 | BC59: =入力シート!BC59 -> 0
A60: 39 | C60: =入力シート!C60 -> 0 | J60: =入力シート!J60 -> 0 | Q60: =入力シート!Q60 -> 0 | Z60: =入力シート!Z60 -> 0 | AC60: =入力シート!AC60 -> 0 | AE60: =入力シート!AE60 -> 0 | AG60: =入力シート!AG60 -> 0 | AK60: =入力シート!AK60 -> 0 | AM60: =入力シート!AM60 -> 0 | AO60: =入力シート!AO60 -> 0 | AS60: =入力シート!AS60 -> 0 | AU60: =入力シート!AU60 -> 0 | AW60: =入力シート!AW60 -> 0 | BA60: =入力シート!BA60 -> 0 | BC60: =入力シート!BC60 -> 0
A61: 40 | C61: =入力シート!C61 -> 0 | J61: =入力シート!J61 -> 0 | Q61: =入力シート!Q61 -> 0 | Z61: =入力シート!Z61 -> 0 | AC61: =入力シート!AC61 -> 0 | AE61: =入力シート!AE61 -> 0 | AG61: =入力シート!AG61 -> 0 | AK61: =入力シート!AK61 -> 0 | AM61: =入力シート!AM61 -> 0 | AO61: =入力シート!AO61 -> 0 | AS61: =入力シート!AS61 -> 0 | AU61: =入力シート!AU61 -> 0 | AW61: =入力シート!AW61 -> 0 | BA61: =入力シート!BA61 -> 0 | BC61: =入力シート!BC61 -> 0

Sheet WORK1
A1: DUET_Entry | G1: TEAM_Entry | M1: FRC_Entry
A3: 組 | B3: 表示順 | C3: 組＋表示順 | D3: 氏 名 | E3: 年令区分 | G3: 組 | H3: 表示順 | I3: 組＋表示順 | J3: 氏 名 | K3: 年令区分 | M3: 組 | N3: 表示順 | O3: 組＋表示順 | P3: 氏 名 | Q3: 年令区分
A4: =入力シート!AK22 -> 0 | B4: =入力シート!AM22 -> 0 | C4: =A4&B4 -> 00 | D4: =入力シート!J22 -> 0 | E4: =入力シート!AG22 -> 0 | G4: =入力シート!AS22 -> 0 | H4: =入力シート!AU22 -> 0 | I4: =G4&H4 -> 00 | J4: =入力シート!J22 -> 0 | K4: =入力シート!AO22 -> 0 | M4: =入力シート!BA22 -> 0 | N4: =入力シート!BC22 -> 0 | O4: =M4&N4 -> 00 | P4: =入力シート!J22 -> 0 | Q4: =入力シート!AW22 -> 0
A5: =入力シート!AK23 -> 0 | B5: =入力シート!AM23 -> 0 | C5: =A5&B5 -> 00 | D5: =入力シート!J23 -> 0 | E5: =入力シート!AG23 -> 0 | G5: =入力シート!AS23 -> 0 | H5: =入力シート!AU23 -> 0 | I5: =G5&H5 -> 00 | J5: =入力シート!J23 -> 0 | K5: =入力シート!AO23 -> 0 | M5: =入力シート!BA23 -> 0 | N5: =入力シート!BC23 -> 0 | O5: =M5&N5 -> 00 | P5: =入力シート!J23 -> 0 | Q5: =入力シート!AW23 -> 0
A6: =入力シート!AK24 -> 0 | B6: =入力シート!AM24 -> 0 | C6: =A6&B6 -> 00 | D6: =入力シート!J24 -> 0 | E6: =入力シート!AG24 -> 0 | G6: =入力シート!AS24 -> 0 | H6: =入力シート!AU24 -> 0 | I6: =G6&H6 -> 00 | J6: =入力シート!J24 -> 0 | K6: =入力シート!AO24 -> 0 | M6: =入力シート!BA24 -> 0 | N6: =入力シート!BC24 -> 0 | O6: =M6&N6 -> 00 | P6: =入力シート!J24 -> 0 | Q6: =入力シート!AW24 -> 0
A7: =入力シート!AK25 -> 0 | B7: =入力シート!AM25 -> 0 | C7: =A7&B7 -> 00 | D7: =入力シート!J25 -> 0 | E7: =入力シート!AG25 -> 0 | G7: =入力シート!AS25 -> 0 | H7: =入力シート!AU25 -> 0 | I7: =G7&H7 -> 00 | J7: =入力シート!J25 -> 0 | K7: =入力シート!AO25 -> 0 | M7: =入力シート!BA25 -> 0 | N7: =入力シート!BC25 -> 0 | O7: =M7&N7 -> 00 | P7: =入力シート!J25 -> 0 | Q7: =入力シート!AW25 -> 0
A8: =入力シート!AK26 -> 0 | B8: =入力シート!AM26 -> 0 | C8: =A8&B8 -> 00 | D8: =入力シート!J26 -> 0 | E8: =入力シート!AG26 -> 0 | G8: =入力シート!AS26 -> 0 | H8: =入力シート!AU26 -> 0 | I8: =G8&H8 -> 00 | J8: =入力シート!J26 -> 0 | K8: =入力シート!AO26 -> 0 | M8: =入力シート!BA26 -> 0 | N8: =入力シート!BC26 -> 0 | O8: =M8&N8 -> 00 | P8: =入力シート!J26 -> 0 | Q8: =入力シート!AW26 -> 0
A9: =入力シート!AK27 -> 0 | B9: =入力シート!AM27 -> 0 | C9: =A9&B9 -> 00 | D9: =入力シート!J27 -> 0 | E9: =入力シート!AG27 -> 0 | G9: =入力シート!AS27 -> 0 | H9: =入力シート!AU27 -> 0 | I9: =G9&H9 -> 00 | J9: =入力シート!J27 -> 0 | K9: =入力シート!AO27 -> 0 | M9: =入力シート!BA27 -> 0 | N9: =入力シート!BC27 -> 0 | O9: =M9&N9 -> 00 | P9: =入力シート!J27 -> 0 | Q9: =入力シート!AW27 -> 0
A10: =入力シート!AK28 -> 0 | B10: =入力シート!AM28 -> 0 | C10: =A10&B10 -> 00 | D10: =入力シート!J28 -> 0 | E10: =入力シート!AG28 -> 0 | G10: =入力シート!AS28 -> 0 | H10: =入力シート!AU28 -> 0 | I10: =G10&H10 -> 00 | J10: =入力シート!J28 -> 0 | K10: =入力シート!AO28 -> 0 | M10: =入力シート!BA28 -> 0 | N10: =入力シート!BC28 -> 0 | O10: =M10&N10 -> 00 | P10: =入力シート!J28 -> 0 | Q10: =入力シート!AW28 -> 0
A11: =入力シート!AK29 -> 0 | B11: =入力シート!AM29 -> 0 | C11: =A11&B11 -> 00 | D11: =入力シート!J29 -> 0 | E11: =入力シート!AG29 -> 0 | G11: =入力シート!AS29 -> 0 | H11: =入力シート!AU29 -> 0 | I11: =G11&H11 -> 00 | J11: =入力シート!J29 -> 0 | K11: =入力シート!AO29 -> 0 | M11: =入力シート!BA29 -> 0 | N11: =入力シート!BC29 -> 0 | O11: =M11&N11 -> 00 | P11: =入力シート!J29 -> 0 | Q11: =入力シート!AW29 -> 0
A12: =入力シート!AK30 -> 0 | B12: =入力シート!AM30 -> 0 | C12: =A12&B12 -> 00 | D12: =入力シート!J30 -> 0 | E12: =入力シート!AG30 -> 0 | G12: =入力シート!AS30 -> 0 | H12: =入力シート!AU30 -> 0 | I12: =G12&H12 -> 00 | J12: =入力シート!J30 -> 0 | K12: =入力シート!AO30 -> 0 | M12: =入力シート!BA30 -> 0 | N12: =入力シート!BC30 -> 0 | O12: =M12&N12 -> 00 | P12: =入力シート!J30 -> 0 | Q12: =入力シート!AW30 -> 0
A13: =入力シート!AK31 -> 0 | B13: =入力シート!AM31 -> 0 | C13: =A13&B13 -> 00 | D13: =入力シート!J31 -> 0 | E13: =入力シート!AG31 -> 0 | G13: =入力シート!AS31 -> 0 | H13: =入力シート!AU31 -> 0 | I13: =G13&H13 -> 00 | J13: =入力シート!J31 -> 0 | K13: =入力シート!AO31 -> 0 | M13: =入力シート!BA31 -> 0 | N13: =入力シート!BC31 -> 0 | O13: =M13&N13 -> 00 | P13: =入力シート!J31 -> 0 | Q13: =入力シート!AW31 -> 0
A14: =入力シート!AK32 -> 0 | B14: =入力シート!AM32 -> 0 | C14: =A14&B14 -> 00 | D14: =入力シート!J32 -> 0 | E14: =入力シート!AG32 -> 0 | G14: =入力シート!AS32 -> 0 | H14: =入力シート!AU32 -> 0 | I14: =G14&H14 -> 00 | J14: =入力シート!J32 -> 0 | K14: =入力シート!AO32 -> 0 | M14: =入力シート!BA32 -> 0 | N14: =入力シート!BC32 -> 0 | O14: =M14&N14 -> 00 | P14: =入力シート!J32 -> 0 | Q14: =入力シート!AW32 -> 0
A15: =入力シート!AK33 -> 0 | B15: =入力シート!AM33 -> 0 | C15: =A15&B15 -> 00 | D15: =入力シート!J33 -> 0 | E15: =入力シート!AG33 -> 0 | G15: =入力シート!AS33 -> 0 | H15: =入力シート!AU33 -> 0 | I15: =G15&H15 -> 00 | J15: =入力シート!J33 -> 0 | K15: =入力シート!AO33 -> 0 | M15: =入力シート!BA33 -> 0 | N15: =入力シート!BC33 -> 0 | O15: =M15&N15 -> 00 | P15: =入力シート!J33 -> 0 | Q15: =入力シート!AW33 -> 0
... A53: =入力シート!AK71 -> 0 | B53: =入力シート!AM71 -> 0 | C53: =A53&B53 -> 00 | D53: =入力シート!J71 -> 0 | E53: =入力シート!AG71 -> 0 | G53: =入力シート!AS71 -> 0 | H53: =入力シート!AU71 -> 0 | I53: =G53&H53 -> 00 | J53: =入力シート!J71 -> 0 | K53: =入力シート!AO71 -> 0 | M53: =入力シート!BA71 -> 0 | N53: =入力シート!BC71 -> 0 | O53: =M53&N53 -> 00 | P53: =入力シート!J71 -> 0 | Q53: =入力シート!AW71 -> 0
E57: デュエット | K57: チーム・FC
E59: 18～29 | K59: 18～34
E60: 30～39 | K60: 35～49
E61: 40～49 | K61: 50～64
E62: 50～59 | K62: 65～79
E63: 60～69 | K63: 80～94
E64: 70～79 | K64: 95～109
E65: 80～89
E66: 90～99
